{"text_format":"1","workbook":"xlsx","n_sheets":4,"sheets":["How to use","Calculator","Ultima75-160_AC_HRC_Calc_Tool","Tabelle2"],"not_rendered":{"charts":0,"images":1,"macros":1,"external_links":0,"defined_names":1,"comments":1,"pivot_tables":0},"unopened":[],"bounds":{"document_bytes":16777216,"sheet_cells":100000,"rows_first":2000,"rows_last":500,"rows_between":2000,"halvings":0,"cell_chars":16384,"cell_head_chars":4096},"cells_cut":0,"cells_raw":0,"read":"whole","date_system":"1900"}

{"sheet":"How to use","index":0,"n_rows":21,"n_cols":3,"rows_kept":21,"cut":false,"hidden":false,"merged":[[16,1,16,8]]}
["How to use the heat recovery calculator"]
[]
["Step1:","Insert nominal power and operating conditions (operating pressure, load) of the Ultima"]
[]
["Step 2:","Insert the ambient temperature or - alternatively - insert cooling water inlet temperature into the package"]
[null,"Limits:","Max. Ambient Temperature Package @Max. Inlet Temperature Customer Side > 40°C is 40°C"]
[null,null,"Max. Ambient Temperature Package @Max. Inlet Temperature Customer Side <= 40°C is 45°C"]
[null,null,"Max. Temperature  Package IN (R8) is 60°C"]
[null,null,"Min. Temperature  Package IN (R8) is 30°C"]
["Step 3:","Insert the inlet temperature and the requested outlet temperature of the customer´s usable water"]
[null,"Limits:","Max. HRC Outlet Temperature Customer Side is 85°C"]
[null,null,"Max. Temperature Difference Customer Side is 45K"]
[null,null,"Max. Inlet Temperature Customer Side is 45°C (higher temperatures on request)"]
["Step 4:","Insert the specific heat capacity of the customer´s usable water"]
[null,"Note: the spec. Heat capacity of pure water is 4,2 kJ/kgK. For a water/glycol mixture of 70/30, it is 3,9 kJ/kgK"]
[]
["Step 5:","You can now read out the recoverable heat, volume flow and pressure loss of the customer´s usable water as well as the compressed air outlet temperature"]
[]
["Step 6:","Insert full load hours per year, current fuel for heat generation, current boiler efficiency and fuel price"]
[]
["Step 7:","You can now read out the annual savings of energy, CO2 emissions and money"]

{"sheet":"Calculator","index":1,"n_rows":37,"n_cols":18,"rows_kept":37,"cut":false,"hidden":false,"merged":[[34,1,36,1],[34,2,34,5],[35,2,35,5],[36,2,36,5],[1,10,1,14],[15,7,16,7],[3,5,16,5],[30,2,30,5],[31,1,33,1],[31,2,31,5],[32,2,32,5],[33,2,33,5]]}
[]
[null,null,null,null,null,null,"Cooling Side",null,null,null,"Compressor Side"]
[]
[null,null,null,null,null,"Air-Water Cooler"]
[null,null,null,null,null,null,null,{"$f":"IF(C13>0,C13,IF(C10>25,C10+5,30))","v":35}]
[null,null,null,null,null,null,null,"Temperature package in (R8) [°C]",null,null,null,null,"Nominal Power [kW]",160]
[null,null,null,null,null,null,null,null,null,null,null,null,"Operating Pressure [bar]",7.5]
[null,null,null,null,null,null,null,null,null,null,null,null,"Load [m³/min]",14,{"$f":"IF(OR(N8>Tabelle2!U2,N8<Tabelle2!U3),\"Value must be between \"&Tabelle2!U2&\" m³/min and \"&Tabelle2!U3&\" m³/min\",\"\")","v":""}]
[null,null,"Ambient temperature [°C]"]
[null,null,29]
[null,"alternatively:",null,null,null,null,null,null,null,null,null,null,"Package Power [kW]",{"$f":"Tabelle2!U4","v":92.544521739130445}]
[null,null,"Temperature package in (R8) [°C]"]
[null,null,35,null,null,null,null,null,null,null,null,null,null,null,null,null,null,"Compressed Air"]
[null,null,{"$f":"IF(OR(C10=\"\",C10<C13),IF(AND(OR(C13<30,C13>45),C13>0),\"Value must be between 30°C and 45°C\",\"\"),\"Value must be above ambient temperature\")","v":""},null,null,null,null,null,null,null,null,null,null,null,null,null,null," Outlet temperature [°C]"]
[null,null,null,null,null,null,null,null,null,null,null,null,null,null,null,null,null,{"$f":"'Ultima75-160_AC_HRC_Calc_Tool'!C19","v":39.653202120000003}]
[null,null,null,null,null,null,null,"Heat Recovery"]
[]
[]
[]
[]
[]
[null,null,null,null,null,"Customer water inlet",null,null,null,"Customer water outlet"]
[null,null,null,null,null,"Temperature [°C]",12,null,null,"Temperature [°C]",55,{"$f":"IF(K23>85,\"Max. value is 85°C\",\"\")","v":""}]
[null,null,null,null,null,null,{"$f":"IF(G23>60,\"Calculation is currently only possible for max. inlet temperature of 60°C\",\"\")","v":""},{"$f":"IF(K23-G23>45,\"Max. Temperature difference between inlet and outlet is 45K\",\"\")","v":""}]
[null,null,null,null,null,null,"Specific heat capacity [kJ/kgK]",3.9]
[null,null,null,null,null,null,"Volume flow [l/min]",{"$f":"'Ultima75-160_AC_HRC_Calc_Tool'!C17","v":36.899369887351}]
[null,null,null,null,null,null,"Pressure loss [bar]",{"$f":"'Ultima75-160_AC_HRC_Calc_Tool'!C21","v":0.12992058880498933}]
[null,null,null,null,null,null,"Recoverable heat [kW]",{"$f":"'Ultima75-160_AC_HRC_Calc_Tool'!C8","v":103.13373883514605}]
[]
[null,"Annual savings potential"]
[null,"Compressor","Full load hours per year [h]",null,null,null,6750]
[null,"Current heat source","Current fuel",null,null,null,"Oil"]
[null,null,"Current boiler efficiency",null,null,null,0.8]
[null,null,"Fuel price [ct/kWh]",null,null,null,2]
[null,"Potential savings per year","Energy [MWh/a]",null,null,null,{"$f":"H28*G31/1000","v":696.15273713723582}]
[null,null,"CO2 [t/a]",null,null,null,{"$f":"IF(G32=\"Other\",\"n.a.\",G35*VLOOKUP(G32,Tabelle2!A17:B19,2,FALSE))","v":185.17662807850473}]
[null,null,"Money [€/a]",null,null,null,{"$f":"G35/G33*G34*10","v":17403.818428430895}]

{"sheet":"Ultima75-160_AC_HRC_Calc_Tool","index":2,"n_rows":33,"n_cols":15,"rows_kept":33,"cut":false,"hidden":true,"merged":[[13,5,19,5],[13,10,19,10],[2,7,2,9],[2,12,2,14],[4,5,10,5],[4,10,10,10],[11,7,11,9],[11,12,11,14]]}
[null,null,"Input Parameters in Blue"]
[null,"Spec. Heat Capacity Fluid Customer side",{"$f":"Calculator!H25","v":3.9},"kJ/kg*K",null,"4D Interpolation- Datenbasis"]
[null,"Spec. Heat Capacity Water = 4,2 kJ/kg*K",null,null,null,"Austritt Package",90,"Eintritt Package",null,null,"Austritt Package",70,"Eintritt Package"]
[null,"Spec. Heat Capacity Water /Glycol (70/30) = 3,9 kJ/kg*K",null,null,null,"WRG EIN",40,30,35,45,"WRG EIN",40,30,35,45]
[null,null,null,null,null,"Package Power",37.92,20.976111,22.38,25.584800000000001,"Package Power",37.92,18.214121053046416,20.297642605115481,35.063939999999995]
[null,"Package Power (TIS)",{"$f":"Calculator!N11","v":92.544521739130445},"kW",null,null,71.77,43.507175309999994,48.1098,54.204682399999996,null,71.77,44.112304812002257,49.158331327340171,64.305509999999998]
[null,null,null,null,null,null,83.97,51.412811910000002,57.137799999999999,64.246746400000006,null,83.97,53.446362178597873,59.560115741258677,74.565709999999996]
[null,"Recoverable Heat ",{"$f":"IF(C16>45,\"Temp. Difference to high\",Interpolation4DPB(C11,C6,C14,C12,$F$3:$O$20,$G$4:$J$11,$G$3,2,2,1,1))","v":103.13373883514605},"kW",null,null,101.23,62.597343690000002,69.910200000000003,78.453797600000001,null,101.23,66.651758092322467,74.276082871113857,89.081369999999993]
[null,null,null,null,null,null,124.24,77.507892720000001,86.937599999999989,97.393788799999996,null,124.24,84.256402355057304,93.894530359988011,108.43277999999999]
[null,"Guentner Cooler Temperature IN",45,"°C",null,null,151.37,95.088214109999996,107.0138,119.7250344,null,151.37,105.01320369569164,117.02571160175924,131.24911]
[null,"Temperature Package IN (R8) => Value D-XXL",{"$f":"Calculator!H5","v":35},"°C",null,null,179.65,113.41373895000001,127.941,143.00286799999998,null,179.65,126.64985470612802,141.13738891533427,155.03259]
[null,"Temperature Package OUT (R9)  => Value D-XXL",{"$f":"C15+5","v":60},"°C",null,null,null,"Eintritt Package",null,null,null,null,"Eintritt Package"]
[null,null,null,null,null,"WRG EIN",60,30,35,45,"WRG EIN",60,30,35,45]
[null,"Customer Side Water IN ",{"$f":"Calculator!G23","v":12},"°C",null,"Package Power",37.92,12.280570855873496,13.63955699734508,15.340389999999998,"Package Power",37.92,10.663549795736381,12.370458142279379,21.02398746664425]
[null,"Customer Side Water OUT",{"$f":"Calculator!K23","v":55},"°C",null,null,71.77,27.487513017429965,30.529321878973324,34.336284099999993,null,71.77,27.869829381225134,31.194694638630512,40.734714471002803]
[null,"Temp. Increase Customer Side Water",{"$f":"C15-C14","v":43},"K",null,null,83.97,32.823282196923465,36.455555170772712,41.001510099999997,null,83.97,34.121553811490315,38.001062088198424,47.586950047927566]
[null,"Customer Side Water FLOW",{"$f":"C8/($C$2*(C15-C14))*60","v":36.899369887351},"l/min",null,null,101.23,40.372083511518369,44.839718008187255,50.431165899999996,null,101.23,42.986973332586196,47.639952549034234,57.262713679895626]
[null,null,null,null,null,null,124.24,50.435694070546681,56.016982601982647,63.002219199999992,null,124.24,54.82706320008127,60.499579854939405,70.143136006896725]
[null,"Compressed Air Outlet Temperature",{"$f":"(0.02599*$C$6 + 2.24797)+C11","v":39.653202120000003},"°C",null,null,151.37,62.301220122977725,69.195565323828347,77.824152100000006,null,151.37,68.80401299466979,75.669308740620622,85.315078427988595]
[null,null,null,null,null,null,179.65,74.669708024295446,82.932768396950195,93.274364500000004,null,179.65,83.384145164239996,91.486813351980217,101.12081324857805]
[null,"Pressure loss Customer HRC circuit",{"$f":"0.00009*POWER(C17,2)+0.0002*C17","v":0.12992058880498933},"bar"]
[]
[null,"Calculation Tolerance of Recoverable Heat + - 7%"]
[]
[null,"Limitations/ Max. Min Values"]
[null,"Max. HRC Outlet Temperature Customer Side",85,"°C"]
[null,"Max. Temperature Difference Customer Side",45,"K"]
[null,"Max. Inlet Temperature Customer Side",60,"°C"]
[null,"Max. Temperature  Package IN (R8)",45,"°C"]
[null,"Min. Temperature  Package IN (R8)",30,"°C"]
[]
[null,"Max. Ambient Temperature Package @Max. Inlet Temperature Customer Side > 40°C",40,"°C"]
[null,"Max. Ambient Temperature Package @Max. Inlet Temperature Customer Side <= 40°C",45,"°C"]

{"sheet":"Tabelle2","index":3,"n_rows":91,"n_cols":22,"rows_kept":91,"cut":false,"hidden":true,"merged":[]}
[null,null,null,null,"Nominal Power","bar"]
["Nominal Power Ultima [kW]","Operating Pressure [bar]",null,null,160,4,"FAD",6.7,{"$f":"IF(AND(Calculator!$N$6=Tabelle2!$E2,Calculator!$N$7=Tabelle2!$F2,H2<=Calculator!$N$8,Tabelle2!J2>=Calculator!$N$8),Calculator!$N$8,\"\")","v":""},10.18,{"$f":"IF(AND(Calculator!$N$6=Tabelle2!$E2,Calculator!$N$7=Tabelle2!$F2,J2<=Calculator!$N$8,Tabelle2!L2>=Calculator!$N$8),Calculator!$N$8,\"\")","v":""},13.66,{"$f":"IF(AND(Calculator!$N$6=Tabelle2!$E2,Calculator!$N$7=Tabelle2!$F2,L2<=Calculator!$N$8,Tabelle2!N2>=Calculator!$N$8),Calculator!$N$8,\"\")","v":""},17.14,{"$f":"IF(AND(Calculator!$N$6=Tabelle2!$E2,Calculator!$N$7=Tabelle2!$F2,N2<=Calculator!$N$8,Tabelle2!P2>=Calculator!$N$8),Calculator!$N$8,\"\")","v":""},20.61,{"$f":"IF(AND(Calculator!$N$6=Tabelle2!$E2,Calculator!$N$7=Tabelle2!$F2,P2<=Calculator!$N$8,Tabelle2!R2>=Calculator!$N$8),Calculator!$N$8,\"\")","v":""},24.09,null,"Max flow rate at selected nominal power and operating pressure:",{"$f":"ROUND(SUMIFS(R2:R91,E2:E91,Calculator!N6,Tabelle2!F2:F91,Calculator!N7,Tabelle2!G2:G91,\"FAD\"),2)","v":23.97},"m³/min"]
[75,4,null,null,160,4,"Total Input Power",37.92,{"$f":"IF(I2=\"\",\"\",H3+(I2-H2)/(J2-H2)*(J3-H3))","v":""},52.15,{"$f":"IF(K2=\"\",\"\",J3+(K2-J2)/(L2-J2)*(L3-J3))","v":""},68.239999999999995,{"$f":"IF(M2=\"\",\"\",L3+(M2-L2)/(N2-L2)*(N3-L3))","v":""},86.5,{"$f":"IF(O2=\"\",\"\",N3+(O2-N2)/(P2-N2)*(P3-N3))","v":""},107.09,{"$f":"IF(Q2=\"\",\"\",P3+(Q2-P2)/(R2-P2)*(R3-P3))","v":""},130.47999999999999,null,"Min flow rate at selected nominal power and operating pressure:",{"$f":"ROUND(SUMIFS(H2:H91,E2:E91,Calculator!N6,Tabelle2!F2:F91,Calculator!N7,Tabelle2!G2:G91,\"FAD\"),2)","v":6.7},"m³/min"]
[90,5,null,null,160,5,"FAD",6.7,{"$f":"IF(AND(Calculator!$N$6=Tabelle2!$E4,Calculator!$N$7=Tabelle2!$F4,H4<=Calculator!$N$8,Tabelle2!J4>=Calculator!$N$8),Calculator!$N$8,\"\")","v":""},10.17,{"$f":"IF(AND(Calculator!$N$6=Tabelle2!$E4,Calculator!$N$7=Tabelle2!$F4,J4<=Calculator!$N$8,Tabelle2!L4>=Calculator!$N$8),Calculator!$N$8,\"\")","v":""},13.65,{"$f":"IF(AND(Calculator!$N$6=Tabelle2!$E4,Calculator!$N$7=Tabelle2!$F4,L4<=Calculator!$N$8,Tabelle2!N4>=Calculator!$N$8),Calculator!$N$8,\"\")","v":""},17.12,{"$f":"IF(AND(Calculator!$N$6=Tabelle2!$E4,Calculator!$N$7=Tabelle2!$F4,N4<=Calculator!$N$8,Tabelle2!P4>=Calculator!$N$8),Calculator!$N$8,\"\")","v":""},20.6,{"$f":"IF(AND(Calculator!$N$6=Tabelle2!$E4,Calculator!$N$7=Tabelle2!$F4,P4<=Calculator!$N$8,Tabelle2!R4>=Calculator!$N$8),Calculator!$N$8,\"\")","v":""},24.07,null,"Total input power at selected flow rate and pressure",{"$f":"MAX(I2:I91,K2:K91,M2:M91,O2:O91,Q2:Q91)","v":92.544521739130445},"kW"]
[110,6,null,null,160,5,"Total Input Power",42.36,{"$f":"IF(I4=\"\",\"\",H5+(I4-H4)/(J4-H4)*(J5-H5))","v":""},57.46,{"$f":"IF(K4=\"\",\"\",J5+(K4-J4)/(L4-J4)*(L5-J5))","v":""},74.39,{"$f":"IF(M4=\"\",\"\",L5+(M4-L4)/(N4-L4)*(N5-L5))","v":""},93.42,{"$f":"IF(O4=\"\",\"\",N5+(O4-N4)/(P4-N4)*(P5-N5))","v":""},114.43,{"$f":"IF(Q4=\"\",\"\",P5+(Q4-P4)/(R4-P4)*(R5-P5))","v":""},138.94999999999999]
[132,7,null,null,160,6,"FAD",6.7,{"$f":"IF(AND(Calculator!$N$6=Tabelle2!$E6,Calculator!$N$7=Tabelle2!$F6,H6<=Calculator!$N$8,Tabelle2!J6>=Calculator!$N$8),Calculator!$N$8,\"\")","v":""},10.17,{"$f":"IF(AND(Calculator!$N$6=Tabelle2!$E6,Calculator!$N$7=Tabelle2!$F6,J6<=Calculator!$N$8,Tabelle2!L6>=Calculator!$N$8),Calculator!$N$8,\"\")","v":""},13.64,{"$f":"IF(AND(Calculator!$N$6=Tabelle2!$E6,Calculator!$N$7=Tabelle2!$F6,L6<=Calculator!$N$8,Tabelle2!N6>=Calculator!$N$8),Calculator!$N$8,\"\")","v":""},17.100000000000001,{"$f":"IF(AND(Calculator!$N$6=Tabelle2!$E6,Calculator!$N$7=Tabelle2!$F6,N6<=Calculator!$N$8,Tabelle2!P6>=Calculator!$N$8),Calculator!$N$8,\"\")","v":""},20.57,{"$f":"IF(AND(Calculator!$N$6=Tabelle2!$E6,Calculator!$N$7=Tabelle2!$F6,P6<=Calculator!$N$8,Tabelle2!R6>=Calculator!$N$8),Calculator!$N$8,\"\")","v":""},24.04]
[160,7.5,null,null,160,6,"Total Input Power",46.81,{"$f":"IF(I6=\"\",\"\",H7+(I6-H6)/(J6-H6)*(J7-H7))","v":""},62.83,{"$f":"IF(K6=\"\",\"\",J7+(K6-J6)/(L6-J6)*(L7-J7))","v":""},80.63,{"$f":"IF(M6=\"\",\"\",L7+(M6-L6)/(N6-L6)*(N7-L7))","v":""},100.41,{"$f":"IF(O6=\"\",\"\",N7+(O6-N6)/(P6-N6)*(P7-N7))","v":""},121.97,{"$f":"IF(Q6=\"\",\"\",P7+(Q6-P6)/(R6-P6)*(R7-P7))","v":""},147.41]
[null,8,null,null,160,7,"FAD",6.7,{"$f":"IF(AND(Calculator!$N$6=Tabelle2!$E8,Calculator!$N$7=Tabelle2!$F8,H8<=Calculator!$N$8,Tabelle2!J8>=Calculator!$N$8),Calculator!$N$8,\"\")","v":""},10.16,{"$f":"IF(AND(Calculator!$N$6=Tabelle2!$E8,Calculator!$N$7=Tabelle2!$F8,J8<=Calculator!$N$8,Tabelle2!L8>=Calculator!$N$8),Calculator!$N$8,\"\")","v":""},13.62,{"$f":"IF(AND(Calculator!$N$6=Tabelle2!$E8,Calculator!$N$7=Tabelle2!$F8,L8<=Calculator!$N$8,Tabelle2!N8>=Calculator!$N$8),Calculator!$N$8,\"\")","v":""},17.079999999999998,{"$f":"IF(AND(Calculator!$N$6=Tabelle2!$E8,Calculator!$N$7=Tabelle2!$F8,N8<=Calculator!$N$8,Tabelle2!P8>=Calculator!$N$8),Calculator!$N$8,\"\")","v":""},20.54,{"$f":"IF(AND(Calculator!$N$6=Tabelle2!$E8,Calculator!$N$7=Tabelle2!$F8,P8<=Calculator!$N$8,Tabelle2!R8>=Calculator!$N$8),Calculator!$N$8,\"\")","v":""},24]
[null,8.5,null,null,160,7,"Total Input Power",51.24,{"$f":"IF(I8=\"\",\"\",H9+(I8-H8)/(J8-H8)*(J9-H9))","v":""},68.23,{"$f":"IF(K8=\"\",\"\",J9+(K8-J8)/(L8-J8)*(L9-J9))","v":""},86.99,{"$f":"IF(M8=\"\",\"\",L9+(M8-L8)/(N8-L8)*(N9-L9))","v":""},107.44,{"$f":"IF(O8=\"\",\"\",N9+(O8-N8)/(P8-N8)*(P9-N9))","v":""},129.94999999999999,{"$f":"IF(Q8=\"\",\"\",P9+(Q8-P8)/(R8-P8)*(R9-P9))","v":""},155.63999999999999]
[null,9,null,null,160,7.5,"FAD",6.7,{"$f":"IF(AND(Calculator!$N$6=Tabelle2!$E10,Calculator!$N$7=Tabelle2!$F10,H10<=Calculator!$N$8,Tabelle2!J10>=Calculator!$N$8),Calculator!$N$8,\"\")","v":""},10.15,{"$f":"IF(AND(Calculator!$N$6=Tabelle2!$E10,Calculator!$N$7=Tabelle2!$F10,J10<=Calculator!$N$8,Tabelle2!L10>=Calculator!$N$8),Calculator!$N$8,\"\")","v":""},13.61,{"$f":"IF(AND(Calculator!$N$6=Tabelle2!$E10,Calculator!$N$7=Tabelle2!$F10,L10<=Calculator!$N$8,Tabelle2!N10>=Calculator!$N$8),Calculator!$N$8,\"\")","v":14},17.059999999999999,{"$f":"IF(AND(Calculator!$N$6=Tabelle2!$E10,Calculator!$N$7=Tabelle2!$F10,N10<=Calculator!$N$8,Tabelle2!P10>=Calculator!$N$8),Calculator!$N$8,\"\")","v":""},20.52,{"$f":"IF(AND(Calculator!$N$6=Tabelle2!$E10,Calculator!$N$7=Tabelle2!$F10,P10<=Calculator!$N$8,Tabelle2!R10>=Calculator!$N$8),Calculator!$N$8,\"\")","v":""},23.97]
[null,10,null,null,160,7.5,"Total Input Power",53.51,{"$f":"IF(I10=\"\",\"\",H11+(I10-H10)/(J10-H10)*(J11-H11))","v":""},70.97,{"$f":"IF(K10=\"\",\"\",J11+(K10-J10)/(L10-J10)*(L11-J11))","v":""},90.2,{"$f":"IF(M10=\"\",\"\",L11+(M10-L10)/(N10-L10)*(N11-L11))","v":92.544521739130445},110.94,{"$f":"IF(O10=\"\",\"\",N11+(O10-N10)/(P10-N10)*(P11-N11))","v":""},134.08000000000001,{"$f":"IF(Q10=\"\",\"\",P11+(Q10-P10)/(R10-P10)*(R11-P11))","v":""},159.66999999999999]
[null,null,null,null,160,8,"FAD",6.7,{"$f":"IF(AND(Calculator!$N$6=Tabelle2!$E12,Calculator!$N$7=Tabelle2!$F12,H12<=Calculator!$N$8,Tabelle2!J12>=Calculator!$N$8),Calculator!$N$8,\"\")","v":""},10.15,{"$f":"IF(AND(Calculator!$N$6=Tabelle2!$E12,Calculator!$N$7=Tabelle2!$F12,J12<=Calculator!$N$8,Tabelle2!L12>=Calculator!$N$8),Calculator!$N$8,\"\")","v":""},13.59,{"$f":"IF(AND(Calculator!$N$6=Tabelle2!$E12,Calculator!$N$7=Tabelle2!$F12,L12<=Calculator!$N$8,Tabelle2!N12>=Calculator!$N$8),Calculator!$N$8,\"\")","v":""},17.04,{"$f":"IF(AND(Calculator!$N$6=Tabelle2!$E12,Calculator!$N$7=Tabelle2!$F12,N12<=Calculator!$N$8,Tabelle2!P12>=Calculator!$N$8),Calculator!$N$8,\"\")","v":""},20.48,{"$f":"IF(AND(Calculator!$N$6=Tabelle2!$E12,Calculator!$N$7=Tabelle2!$F12,P12<=Calculator!$N$8,Tabelle2!R12>=Calculator!$N$8),Calculator!$N$8,\"\")","v":""},23.93]
[null,null,null,null,160,8,"Total Input Power",55.87,{"$f":"IF(I12=\"\",\"\",H13+(I12-H12)/(J12-H12)*(J13-H13))","v":""},73.739999999999995,{"$f":"IF(K12=\"\",\"\",J13+(K12-J12)/(L12-J12)*(L13-J13))","v":""},93.4,{"$f":"IF(M12=\"\",\"\",L13+(M12-L12)/(N12-L12)*(N13-L13))","v":""},114.43,{"$f":"IF(O12=\"\",\"\",N13+(O12-N12)/(P12-N12)*(P13-N13))","v":""},138.24,{"$f":"IF(Q12=\"\",\"\",P13+(Q12-P12)/(R12-P12)*(R13-P13))","v":""},163.66999999999999]
[null,null,null,null,160,8.5,"FAD",6.95,{"$f":"IF(AND(Calculator!$N$6=Tabelle2!$E14,Calculator!$N$7=Tabelle2!$F14,H14<=Calculator!$N$8,Tabelle2!J14>=Calculator!$N$8),Calculator!$N$8,\"\")","v":""},10.33,{"$f":"IF(AND(Calculator!$N$6=Tabelle2!$E14,Calculator!$N$7=Tabelle2!$F14,J14<=Calculator!$N$8,Tabelle2!L14>=Calculator!$N$8),Calculator!$N$8,\"\")","v":""},13.72,{"$f":"IF(AND(Calculator!$N$6=Tabelle2!$E14,Calculator!$N$7=Tabelle2!$F14,L14<=Calculator!$N$8,Tabelle2!N14>=Calculator!$N$8),Calculator!$N$8,\"\")","v":""},17.100000000000001,{"$f":"IF(AND(Calculator!$N$6=Tabelle2!$E14,Calculator!$N$7=Tabelle2!$F14,N14<=Calculator!$N$8,Tabelle2!P14>=Calculator!$N$8),Calculator!$N$8,\"\")","v":""},20.49,{"$f":"IF(AND(Calculator!$N$6=Tabelle2!$E14,Calculator!$N$7=Tabelle2!$F14,P14<=Calculator!$N$8,Tabelle2!R14>=Calculator!$N$8),Calculator!$N$8,\"\")","v":""},23.87]
[null,null,null,null,160,8.5,"Total Input Power",59.64,{"$f":"IF(I14=\"\",\"\",H15+(I14-H14)/(J14-H14)*(J15-H15))","v":""},77.67,{"$f":"IF(K14=\"\",\"\",J15+(K14-J14)/(L14-J14)*(L15-J15))","v":""},97.48,{"$f":"IF(M14=\"\",\"\",L15+(M14-L14)/(N14-L14)*(N15-L15))","v":""},118.56,{"$f":"IF(O14=\"\",\"\",N15+(O14-N14)/(P14-N14)*(P15-N15))","v":""},142.75,{"$f":"IF(Q14=\"\",\"\",P15+(Q14-P14)/(R14-P14)*(R15-P15))","v":""},167.66]
["CO2 emission factors by energy carrier [t/MWh]",null,null,null,160,9,"FAD",7.2,{"$f":"IF(AND(Calculator!$N$6=Tabelle2!$E16,Calculator!$N$7=Tabelle2!$F16,H16<=Calculator!$N$8,Tabelle2!J16>=Calculator!$N$8),Calculator!$N$8,\"\")","v":""},10.52,{"$f":"IF(AND(Calculator!$N$6=Tabelle2!$E16,Calculator!$N$7=Tabelle2!$F16,J16<=Calculator!$N$8,Tabelle2!L16>=Calculator!$N$8),Calculator!$N$8,\"\")","v":""},13.84,{"$f":"IF(AND(Calculator!$N$6=Tabelle2!$E16,Calculator!$N$7=Tabelle2!$F16,L16<=Calculator!$N$8,Tabelle2!N16>=Calculator!$N$8),Calculator!$N$8,\"\")","v":""},17.16,{"$f":"IF(AND(Calculator!$N$6=Tabelle2!$E16,Calculator!$N$7=Tabelle2!$F16,N16<=Calculator!$N$8,Tabelle2!P16>=Calculator!$N$8),Calculator!$N$8,\"\")","v":""},20.48,{"$f":"IF(AND(Calculator!$N$6=Tabelle2!$E16,Calculator!$N$7=Tabelle2!$F16,P16<=Calculator!$N$8,Tabelle2!R16>=Calculator!$N$8),Calculator!$N$8,\"\")","v":""},23.8]
["Gas",0.20200000000000001,null,null,160,9,"Total Input Power",63.58,{"$f":"IF(I16=\"\",\"\",H17+(I16-H16)/(J16-H16)*(J17-H17))","v":""},81.7,{"$f":"IF(K16=\"\",\"\",J17+(K16-J16)/(L16-J16)*(L17-J17))","v":""},101.56,{"$f":"IF(M16=\"\",\"\",L17+(M16-L16)/(N16-L16)*(N17-L17))","v":""},122.74,{"$f":"IF(O16=\"\",\"\",N17+(O16-N16)/(P16-N16)*(P17-N17))","v":""},147.21,{"$f":"IF(Q16=\"\",\"\",P17+(Q16-P16)/(R16-P16)*(R17-P17))","v":""},171.66]
["Oil",0.26600000000000001,null,null,160,10,"FAD",7.7,{"$f":"IF(AND(Calculator!$N$6=Tabelle2!$E18,Calculator!$N$7=Tabelle2!$F18,H18<=Calculator!$N$8,Tabelle2!J18>=Calculator!$N$8),Calculator!$N$8,\"\")","v":""},10.89,{"$f":"IF(AND(Calculator!$N$6=Tabelle2!$E18,Calculator!$N$7=Tabelle2!$F18,J18<=Calculator!$N$8,Tabelle2!L18>=Calculator!$N$8),Calculator!$N$8,\"\")","v":""},14.08,{"$f":"IF(AND(Calculator!$N$6=Tabelle2!$E18,Calculator!$N$7=Tabelle2!$F18,L18<=Calculator!$N$8,Tabelle2!N18>=Calculator!$N$8),Calculator!$N$8,\"\")","v":""},17.27,{"$f":"IF(AND(Calculator!$N$6=Tabelle2!$E18,Calculator!$N$7=Tabelle2!$F18,N18<=Calculator!$N$8,Tabelle2!P18>=Calculator!$N$8),Calculator!$N$8,\"\")","v":""},20.45,{"$f":"IF(AND(Calculator!$N$6=Tabelle2!$E18,Calculator!$N$7=Tabelle2!$F18,P18<=Calculator!$N$8,Tabelle2!R18>=Calculator!$N$8),Calculator!$N$8,\"\")","v":""},23.64]
["Coal",0.33500000000000002,null,null,160,10,"Total Input Power",71.77,{"$f":"IF(I18=\"\",\"\",H19+(I18-H18)/(J18-H18)*(J19-H19))","v":""},89.98,{"$f":"IF(K18=\"\",\"\",J19+(K18-J18)/(L18-J18)*(L19-J19))","v":""},109.69,{"$f":"IF(M18=\"\",\"\",L19+(M18-L18)/(N18-L18)*(N19-L19))","v":""},131.44,{"$f":"IF(O18=\"\",\"\",N19+(O18-N18)/(P18-N18)*(P19-N19))","v":""},155.85,{"$f":"IF(Q18=\"\",\"\",P19+(Q18-P18)/(R18-P18)*(R19-P19))","v":""},179.65]
["Other",null,null,null,132,4,"FAD",6.7,{"$f":"IF(AND(Calculator!$N$6=Tabelle2!$E20,Calculator!$N$7=Tabelle2!$F20,H20<=Calculator!$N$8,Tabelle2!J20>=Calculator!$N$8),Calculator!$N$8,\"\")","v":""},10.18,{"$f":"IF(AND(Calculator!$N$6=Tabelle2!$E20,Calculator!$N$7=Tabelle2!$F20,J20<=Calculator!$N$8,Tabelle2!L20>=Calculator!$N$8),Calculator!$N$8,\"\")","v":""},13.66,{"$f":"IF(AND(Calculator!$N$6=Tabelle2!$E20,Calculator!$N$7=Tabelle2!$F20,L20<=Calculator!$N$8,Tabelle2!N20>=Calculator!$N$8),Calculator!$N$8,\"\")","v":""},17.14,{"$f":"IF(AND(Calculator!$N$6=Tabelle2!$E20,Calculator!$N$7=Tabelle2!$F20,N20<=Calculator!$N$8,Tabelle2!P20>=Calculator!$N$8),Calculator!$N$8,\"\")","v":""},20.61,{"$f":"IF(AND(Calculator!$N$6=Tabelle2!$E20,Calculator!$N$7=Tabelle2!$F20,P20<=Calculator!$N$8,Tabelle2!R20>=Calculator!$N$8),Calculator!$N$8,\"\")","v":""},24.09]
[null,null,null,null,132,4,"Total Input Power",37.92,{"$f":"IF(I20=\"\",\"\",H21+(I20-H20)/(J20-H20)*(J21-H21))","v":""},52.15,{"$f":"IF(K20=\"\",\"\",J21+(K20-J20)/(L20-J20)*(L21-J21))","v":""},68.239999999999995,{"$f":"IF(M20=\"\",\"\",L21+(M20-L20)/(N20-L20)*(N21-L21))","v":""},86.5,{"$f":"IF(O20=\"\",\"\",N21+(O20-N20)/(P20-N20)*(P21-N21))","v":""},107.09,{"$f":"IF(Q20=\"\",\"\",P21+(Q20-P20)/(R20-P20)*(R21-P21))","v":""},130.47999999999999]
[null,null,null,null,132,5,"FAD",6.7,{"$f":"IF(AND(Calculator!$N$6=Tabelle2!$E22,Calculator!$N$7=Tabelle2!$F22,H22<=Calculator!$N$8,Tabelle2!J22>=Calculator!$N$8),Calculator!$N$8,\"\")","v":""},10.17,{"$f":"IF(AND(Calculator!$N$6=Tabelle2!$E22,Calculator!$N$7=Tabelle2!$F22,J22<=Calculator!$N$8,Tabelle2!L22>=Calculator!$N$8),Calculator!$N$8,\"\")","v":""},13.65,{"$f":"IF(AND(Calculator!$N$6=Tabelle2!$E22,Calculator!$N$7=Tabelle2!$F22,L22<=Calculator!$N$8,Tabelle2!N22>=Calculator!$N$8),Calculator!$N$8,\"\")","v":""},17.12,{"$f":"IF(AND(Calculator!$N$6=Tabelle2!$E22,Calculator!$N$7=Tabelle2!$F22,N22<=Calculator!$N$8,Tabelle2!P22>=Calculator!$N$8),Calculator!$N$8,\"\")","v":""},20.6,{"$f":"IF(AND(Calculator!$N$6=Tabelle2!$E22,Calculator!$N$7=Tabelle2!$F22,P22<=Calculator!$N$8,Tabelle2!R22>=Calculator!$N$8),Calculator!$N$8,\"\")","v":""},24.07]
[null,null,null,null,132,5,"Total Input Power",42.36,{"$f":"IF(I22=\"\",\"\",H23+(I22-H22)/(J22-H22)*(J23-H23))","v":""},57.47,{"$f":"IF(K22=\"\",\"\",J23+(K22-J22)/(L22-J22)*(L23-J23))","v":""},74.39,{"$f":"IF(M22=\"\",\"\",L23+(M22-L22)/(N22-L22)*(N23-L23))","v":""},93.43,{"$f":"IF(O22=\"\",\"\",N23+(O22-N22)/(P22-N22)*(P23-N23))","v":""},114.43,{"$f":"IF(Q22=\"\",\"\",P23+(Q22-P22)/(R22-P22)*(R23-P23))","v":""},138.94999999999999]
[null,null,null,null,132,6,"FAD",6.7,{"$f":"IF(AND(Calculator!$N$6=Tabelle2!$E24,Calculator!$N$7=Tabelle2!$F24,H24<=Calculator!$N$8,Tabelle2!J24>=Calculator!$N$8),Calculator!$N$8,\"\")","v":""},10.17,{"$f":"IF(AND(Calculator!$N$6=Tabelle2!$E24,Calculator!$N$7=Tabelle2!$F24,J24<=Calculator!$N$8,Tabelle2!L24>=Calculator!$N$8),Calculator!$N$8,\"\")","v":""},13.64,{"$f":"IF(AND(Calculator!$N$6=Tabelle2!$E24,Calculator!$N$7=Tabelle2!$F24,L24<=Calculator!$N$8,Tabelle2!N24>=Calculator!$N$8),Calculator!$N$8,\"\")","v":""},17.11,{"$f":"IF(AND(Calculator!$N$6=Tabelle2!$E24,Calculator!$N$7=Tabelle2!$F24,N24<=Calculator!$N$8,Tabelle2!P24>=Calculator!$N$8),Calculator!$N$8,\"\")","v":""},20.57,{"$f":"IF(AND(Calculator!$N$6=Tabelle2!$E24,Calculator!$N$7=Tabelle2!$F24,P24<=Calculator!$N$8,Tabelle2!R24>=Calculator!$N$8),Calculator!$N$8,\"\")","v":""},24.04]
[null,null,null,null,132,6,"Total Input Power",46.81,{"$f":"IF(I24=\"\",\"\",H25+(I24-H24)/(J24-H24)*(J25-H25))","v":""},62.83,{"$f":"IF(K24=\"\",\"\",J25+(K24-J24)/(L24-J24)*(L25-J25))","v":""},80.63,{"$f":"IF(M24=\"\",\"\",L25+(M24-L24)/(N24-L24)*(N25-L25))","v":""},100.41,{"$f":"IF(O24=\"\",\"\",N25+(O24-N24)/(P24-N24)*(P25-N25))","v":""},121.97,{"$f":"IF(Q24=\"\",\"\",P25+(Q24-P24)/(R24-P24)*(R25-P25))","v":""},147.41999999999999]
[null,null,null,null,132,7,"FAD",6.7,{"$f":"IF(AND(Calculator!$N$6=Tabelle2!$E26,Calculator!$N$7=Tabelle2!$F26,H26<=Calculator!$N$8,Tabelle2!J26>=Calculator!$N$8),Calculator!$N$8,\"\")","v":""},9.99,{"$f":"IF(AND(Calculator!$N$6=Tabelle2!$E26,Calculator!$N$7=Tabelle2!$F26,J26<=Calculator!$N$8,Tabelle2!L26>=Calculator!$N$8),Calculator!$N$8,\"\")","v":""},13.28,{"$f":"IF(AND(Calculator!$N$6=Tabelle2!$E26,Calculator!$N$7=Tabelle2!$F26,L26<=Calculator!$N$8,Tabelle2!N26>=Calculator!$N$8),Calculator!$N$8,\"\")","v":""},16.57,{"$f":"IF(AND(Calculator!$N$6=Tabelle2!$E26,Calculator!$N$7=Tabelle2!$F26,N26<=Calculator!$N$8,Tabelle2!P26>=Calculator!$N$8),Calculator!$N$8,\"\")","v":""},19.86,{"$f":"IF(AND(Calculator!$N$6=Tabelle2!$E26,Calculator!$N$7=Tabelle2!$F26,P26<=Calculator!$N$8,Tabelle2!R26>=Calculator!$N$8),Calculator!$N$8,\"\")","v":""},23.15]
[null,null,null,null,132,7,"Total Input Power",51.24,{"$f":"IF(I26=\"\",\"\",H27+(I26-H26)/(J26-H26)*(J27-H27))","v":""},67.349999999999994,{"$f":"IF(K26=\"\",\"\",J27+(K26-J26)/(L26-J26)*(L27-J27))","v":""},85.05,{"$f":"IF(M26=\"\",\"\",L27+(M26-L26)/(N26-L26)*(N27-L27))","v":""},104.35,{"$f":"IF(O26=\"\",\"\",N27+(O26-N26)/(P26-N26)*(P27-N27))","v":""},125.17,{"$f":"IF(Q26=\"\",\"\",P27+(Q26-P26)/(R26-P26)*(R27-P27))","v":""},149.32]
[null,null,null,null,132,7.5,"FAD",6.7,{"$f":"IF(AND(Calculator!$N$6=Tabelle2!$E28,Calculator!$N$7=Tabelle2!$F28,H28<=Calculator!$N$8,Tabelle2!J28>=Calculator!$N$8),Calculator!$N$8,\"\")","v":""},9.9,{"$f":"IF(AND(Calculator!$N$6=Tabelle2!$E28,Calculator!$N$7=Tabelle2!$F28,J28<=Calculator!$N$8,Tabelle2!L28>=Calculator!$N$8),Calculator!$N$8,\"\")","v":""},13.09,{"$f":"IF(AND(Calculator!$N$6=Tabelle2!$E28,Calculator!$N$7=Tabelle2!$F28,L28<=Calculator!$N$8,Tabelle2!N28>=Calculator!$N$8),Calculator!$N$8,\"\")","v":""},16.29,{"$f":"IF(AND(Calculator!$N$6=Tabelle2!$E28,Calculator!$N$7=Tabelle2!$F28,N28<=Calculator!$N$8,Tabelle2!P28>=Calculator!$N$8),Calculator!$N$8,\"\")","v":""},19.48,{"$f":"IF(AND(Calculator!$N$6=Tabelle2!$E28,Calculator!$N$7=Tabelle2!$F28,P28<=Calculator!$N$8,Tabelle2!R28>=Calculator!$N$8),Calculator!$N$8,\"\")","v":""},22.68]
[null,null,null,null,132,7.5,"Total Input Power",53.51,{"$f":"IF(I28=\"\",\"\",H29+(I28-H28)/(J28-H28)*(J29-H29))","v":""},69.599999999999994,{"$f":"IF(K28=\"\",\"\",J29+(K28-J28)/(L28-J28)*(L29-J29))","v":""},87.19,{"$f":"IF(M28=\"\",\"\",L29+(M28-L28)/(N28-L28)*(N29-L29))","v":""},106.19,{"$f":"IF(O28=\"\",\"\",N29+(O28-N28)/(P28-N28)*(P29-N29))","v":""},126.68,{"$f":"IF(Q28=\"\",\"\",P29+(Q28-P28)/(R28-P28)*(R29-P29))","v":""},150.18]
[null,null,null,null,132,8,"FAD",6.7,{"$f":"IF(AND(Calculator!$N$6=Tabelle2!$E30,Calculator!$N$7=Tabelle2!$F30,H30<=Calculator!$N$8,Tabelle2!J30>=Calculator!$N$8),Calculator!$N$8,\"\")","v":""},9.8000000000000007,{"$f":"IF(AND(Calculator!$N$6=Tabelle2!$E30,Calculator!$N$7=Tabelle2!$F30,J30<=Calculator!$N$8,Tabelle2!L30>=Calculator!$N$8),Calculator!$N$8,\"\")","v":""},12.89,{"$f":"IF(AND(Calculator!$N$6=Tabelle2!$E30,Calculator!$N$7=Tabelle2!$F30,L30<=Calculator!$N$8,Tabelle2!N30>=Calculator!$N$8),Calculator!$N$8,\"\")","v":""},15.99,{"$f":"IF(AND(Calculator!$N$6=Tabelle2!$E30,Calculator!$N$7=Tabelle2!$F30,N30<=Calculator!$N$8,Tabelle2!P30>=Calculator!$N$8),Calculator!$N$8,\"\")","v":""},19.09,{"$f":"IF(AND(Calculator!$N$6=Tabelle2!$E30,Calculator!$N$7=Tabelle2!$F30,P30<=Calculator!$N$8,Tabelle2!R30>=Calculator!$N$8),Calculator!$N$8,\"\")","v":""},22.19]
[null,null,null,null,132,8,"Total Input Power",55.87,{"$f":"IF(I30=\"\",\"\",H31+(I30-H30)/(J30-H30)*(J31-H31))","v":""},71.86,{"$f":"IF(K30=\"\",\"\",J31+(K30-J30)/(L30-J30)*(L31-J31))","v":""},89.28,{"$f":"IF(M30=\"\",\"\",L31+(M30-L30)/(N30-L30)*(N31-L31))","v":""},107.93,{"$f":"IF(O30=\"\",\"\",N31+(O30-N30)/(P30-N30)*(P31-N31))","v":""},128.09,{"$f":"IF(Q30=\"\",\"\",P31+(Q30-P30)/(R30-P30)*(R31-P31))","v":""},150.99]
[null,null,null,null,132,8.5,"FAD",6.95,{"$f":"IF(AND(Calculator!$N$6=Tabelle2!$E32,Calculator!$N$7=Tabelle2!$F32,H32<=Calculator!$N$8,Tabelle2!J32>=Calculator!$N$8),Calculator!$N$8,\"\")","v":""},9.8800000000000008,{"$f":"IF(AND(Calculator!$N$6=Tabelle2!$E32,Calculator!$N$7=Tabelle2!$F32,J32<=Calculator!$N$8,Tabelle2!L32>=Calculator!$N$8),Calculator!$N$8,\"\")","v":""},12.81,{"$f":"IF(AND(Calculator!$N$6=Tabelle2!$E32,Calculator!$N$7=Tabelle2!$F32,L32<=Calculator!$N$8,Tabelle2!N32>=Calculator!$N$8),Calculator!$N$8,\"\")","v":""},15.75,{"$f":"IF(AND(Calculator!$N$6=Tabelle2!$E32,Calculator!$N$7=Tabelle2!$F32,N32<=Calculator!$N$8,Tabelle2!P32>=Calculator!$N$8),Calculator!$N$8,\"\")","v":""},18.68,{"$f":"IF(AND(Calculator!$N$6=Tabelle2!$E32,Calculator!$N$7=Tabelle2!$F32,P32<=Calculator!$N$8,Tabelle2!R32>=Calculator!$N$8),Calculator!$N$8,\"\")","v":""},21.61]
[null,null,null,null,132,8.5,"Total Input Power",59.64,{"$f":"IF(I32=\"\",\"\",H33+(I32-H32)/(J32-H32)*(J33-H33))","v":""},75.17,{"$f":"IF(K32=\"\",\"\",J33+(K32-J32)/(L32-J32)*(L33-J33))","v":""},92.04,{"$f":"IF(M32=\"\",\"\",L33+(M32-L32)/(N32-L32)*(N33-L33))","v":""},109.93,{"$f":"IF(O32=\"\",\"\",N33+(O32-N32)/(P32-N32)*(P33-N33))","v":""},129.36000000000001,{"$f":"IF(Q32=\"\",\"\",P33+(Q32-P32)/(R32-P32)*(R33-P33))","v":""},151.22999999999999]
[null,null,null,null,132,9,"FAD",7.2,{"$f":"IF(AND(Calculator!$N$6=Tabelle2!$E34,Calculator!$N$7=Tabelle2!$F34,H34<=Calculator!$N$8,Tabelle2!J34>=Calculator!$N$8),Calculator!$N$8,\"\")","v":""},9.9700000000000006,{"$f":"IF(AND(Calculator!$N$6=Tabelle2!$E34,Calculator!$N$7=Tabelle2!$F34,J34<=Calculator!$N$8,Tabelle2!L34>=Calculator!$N$8),Calculator!$N$8,\"\")","v":""},12.73,{"$f":"IF(AND(Calculator!$N$6=Tabelle2!$E34,Calculator!$N$7=Tabelle2!$F34,L34<=Calculator!$N$8,Tabelle2!N34>=Calculator!$N$8),Calculator!$N$8,\"\")","v":""},15.5,{"$f":"IF(AND(Calculator!$N$6=Tabelle2!$E34,Calculator!$N$7=Tabelle2!$F34,N34<=Calculator!$N$8,Tabelle2!P34>=Calculator!$N$8),Calculator!$N$8,\"\")","v":""},18.260000000000002,{"$f":"IF(AND(Calculator!$N$6=Tabelle2!$E34,Calculator!$N$7=Tabelle2!$F34,P34<=Calculator!$N$8,Tabelle2!R34>=Calculator!$N$8),Calculator!$N$8,\"\")","v":""},21.03]
[null,null,null,null,132,9,"Total Input Power",63.58,{"$f":"IF(I34=\"\",\"\",H35+(I34-H34)/(J34-H34)*(J35-H35))","v":""},78.55,{"$f":"IF(K34=\"\",\"\",J35+(K34-J34)/(L34-J34)*(L35-J35))","v":""},94.78,{"$f":"IF(M34=\"\",\"\",L35+(M34-L34)/(N34-L34)*(N35-L35))","v":""},111.87,{"$f":"IF(O34=\"\",\"\",N35+(O34-N34)/(P34-N34)*(P35-N35))","v":""},130.53,{"$f":"IF(Q34=\"\",\"\",P35+(Q34-P34)/(R34-P34)*(R35-P35))","v":""},151.38]
[null,null,null,null,132,10,"FAD",7.7,{"$f":"IF(AND(Calculator!$N$6=Tabelle2!$E36,Calculator!$N$7=Tabelle2!$F36,H36<=Calculator!$N$8,Tabelle2!J36>=Calculator!$N$8),Calculator!$N$8,\"\")","v":""},10.130000000000001,{"$f":"IF(AND(Calculator!$N$6=Tabelle2!$E36,Calculator!$N$7=Tabelle2!$F36,J36<=Calculator!$N$8,Tabelle2!L36>=Calculator!$N$8),Calculator!$N$8,\"\")","v":""},12.56,{"$f":"IF(AND(Calculator!$N$6=Tabelle2!$E36,Calculator!$N$7=Tabelle2!$F36,L36<=Calculator!$N$8,Tabelle2!N36>=Calculator!$N$8),Calculator!$N$8,\"\")","v":""},15,{"$f":"IF(AND(Calculator!$N$6=Tabelle2!$E36,Calculator!$N$7=Tabelle2!$F36,N36<=Calculator!$N$8,Tabelle2!P36>=Calculator!$N$8),Calculator!$N$8,\"\")","v":""},17.43,{"$f":"IF(AND(Calculator!$N$6=Tabelle2!$E36,Calculator!$N$7=Tabelle2!$F36,P36<=Calculator!$N$8,Tabelle2!R36>=Calculator!$N$8),Calculator!$N$8,\"\")","v":""},19.86]
[null,null,null,null,132,10,"Total Input Power",71.77,{"$f":"IF(I36=\"\",\"\",H37+(I36-H36)/(J36-H36)*(J37-H37))","v":""},85.49,{"$f":"IF(K36=\"\",\"\",J37+(K36-J36)/(L36-J36)*(L37-J37))","v":""},100.23,{"$f":"IF(M36=\"\",\"\",L37+(M36-L36)/(N36-L36)*(N37-L37))","v":""},115.61,{"$f":"IF(O36=\"\",\"\",N37+(O36-N36)/(P36-N36)*(P37-N37))","v":""},132.63999999999999,{"$f":"IF(Q36=\"\",\"\",P37+(Q36-P36)/(R36-P36)*(R37-P37))","v":""},151.37]
[null,null,null,null,110,4,"FAD",6.7,{"$f":"IF(AND(Calculator!$N$6=Tabelle2!$E38,Calculator!$N$7=Tabelle2!$F38,H38<=Calculator!$N$8,Tabelle2!J38>=Calculator!$N$8),Calculator!$N$8,\"\")","v":""},9.98,{"$f":"IF(AND(Calculator!$N$6=Tabelle2!$E38,Calculator!$N$7=Tabelle2!$F38,J38<=Calculator!$N$8,Tabelle2!L38>=Calculator!$N$8),Calculator!$N$8,\"\")","v":""},13.25,{"$f":"IF(AND(Calculator!$N$6=Tabelle2!$E38,Calculator!$N$7=Tabelle2!$F38,L38<=Calculator!$N$8,Tabelle2!N38>=Calculator!$N$8),Calculator!$N$8,\"\")","v":""},16.53,{"$f":"IF(AND(Calculator!$N$6=Tabelle2!$E38,Calculator!$N$7=Tabelle2!$F38,N38<=Calculator!$N$8,Tabelle2!P38>=Calculator!$N$8),Calculator!$N$8,\"\")","v":""},19.8,{"$f":"IF(AND(Calculator!$N$6=Tabelle2!$E38,Calculator!$N$7=Tabelle2!$F38,P38<=Calculator!$N$8,Tabelle2!R38>=Calculator!$N$8),Calculator!$N$8,\"\")","v":""},23.08]
[null,null,null,null,110,4,"Total Input Power",37.92,{"$f":"IF(I38=\"\",\"\",H39+(I38-H38)/(J38-H38)*(J39-H39))","v":""},51.28,{"$f":"IF(K38=\"\",\"\",J39+(K38-J38)/(L38-J38)*(L39-J39))","v":""},66.260000000000005,{"$f":"IF(M38=\"\",\"\",L39+(M38-L38)/(N38-L38)*(N39-L39))","v":""},83.13,{"$f":"IF(O38=\"\",\"\",N39+(O38-N38)/(P38-N38)*(P39-N39))","v":""},102.13,{"$f":"IF(Q38=\"\",\"\",P39+(Q38-P38)/(R38-P38)*(R39-P39))","v":""},123.12]
[null,null,null,null,110,5,"FAD",6.7,{"$f":"IF(AND(Calculator!$N$6=Tabelle2!$E40,Calculator!$N$7=Tabelle2!$F40,H40<=Calculator!$N$8,Tabelle2!J40>=Calculator!$N$8),Calculator!$N$8,\"\")","v":""},9.76,{"$f":"IF(AND(Calculator!$N$6=Tabelle2!$E40,Calculator!$N$7=Tabelle2!$F40,J40<=Calculator!$N$8,Tabelle2!L40>=Calculator!$N$8),Calculator!$N$8,\"\")","v":""},12.83,{"$f":"IF(AND(Calculator!$N$6=Tabelle2!$E40,Calculator!$N$7=Tabelle2!$F40,L40<=Calculator!$N$8,Tabelle2!N40>=Calculator!$N$8),Calculator!$N$8,\"\")","v":""},15.89,{"$f":"IF(AND(Calculator!$N$6=Tabelle2!$E40,Calculator!$N$7=Tabelle2!$F40,N40<=Calculator!$N$8,Tabelle2!P40>=Calculator!$N$8),Calculator!$N$8,\"\")","v":""},18.95,{"$f":"IF(AND(Calculator!$N$6=Tabelle2!$E40,Calculator!$N$7=Tabelle2!$F40,P40<=Calculator!$N$8,Tabelle2!R40>=Calculator!$N$8),Calculator!$N$8,\"\")","v":""},22.01]
[null,null,null,null,110,5,"Total Input Power",42.36,{"$f":"IF(I40=\"\",\"\",H41+(I40-H40)/(J40-H40)*(J41-H41))","v":""},55.59,{"$f":"IF(K40=\"\",\"\",J41+(K40-J40)/(L40-J40)*(L41-J41))","v":""},70.2,{"$f":"IF(M40=\"\",\"\",L41+(M40-L40)/(N40-L40)*(N41-L41))","v":""},86.4,{"$f":"IF(O40=\"\",\"\",N41+(O40-N40)/(P40-N40)*(P41-N41))","v":""},104.27,{"$f":"IF(Q40=\"\",\"\",P41+(Q40-P40)/(R40-P40)*(R41-P41))","v":""},123.79]
[null,null,null,null,110,6,"FAD",6.7,{"$f":"IF(AND(Calculator!$N$6=Tabelle2!$E42,Calculator!$N$7=Tabelle2!$F42,H42<=Calculator!$N$8,Tabelle2!J42>=Calculator!$N$8),Calculator!$N$8,\"\")","v":""},9.5399999999999991,{"$f":"IF(AND(Calculator!$N$6=Tabelle2!$E42,Calculator!$N$7=Tabelle2!$F42,J42<=Calculator!$N$8,Tabelle2!L42>=Calculator!$N$8),Calculator!$N$8,\"\")","v":""},12.38,{"$f":"IF(AND(Calculator!$N$6=Tabelle2!$E42,Calculator!$N$7=Tabelle2!$F42,L42<=Calculator!$N$8,Tabelle2!N42>=Calculator!$N$8),Calculator!$N$8,\"\")","v":""},15.22,{"$f":"IF(AND(Calculator!$N$6=Tabelle2!$E42,Calculator!$N$7=Tabelle2!$F42,N42<=Calculator!$N$8,Tabelle2!P42>=Calculator!$N$8),Calculator!$N$8,\"\")","v":""},18.059999999999999,{"$f":"IF(AND(Calculator!$N$6=Tabelle2!$E42,Calculator!$N$7=Tabelle2!$F42,P42<=Calculator!$N$8,Tabelle2!R42>=Calculator!$N$8),Calculator!$N$8,\"\")","v":""},20.9]
[null,null,null,null,110,6,"Total Input Power",46.81,{"$f":"IF(I42=\"\",\"\",H43+(I42-H42)/(J42-H42)*(J43-H43))","v":""},59.81,{"$f":"IF(K42=\"\",\"\",J43+(K42-J42)/(L42-J42)*(L43-J43))","v":""},73.95,{"$f":"IF(M42=\"\",\"\",L43+(M42-L42)/(N42-L42)*(N43-L43))","v":""},89.42,{"$f":"IF(O42=\"\",\"\",N43+(O42-N42)/(P42-N42)*(P43-N43))","v":""},106.14,{"$f":"IF(Q42=\"\",\"\",P43+(Q42-P42)/(R42-P42)*(R43-P43))","v":""},124.18]
[null,null,null,null,110,7,"FAD",6.7,{"$f":"IF(AND(Calculator!$N$6=Tabelle2!$E44,Calculator!$N$7=Tabelle2!$F44,H44<=Calculator!$N$8,Tabelle2!J44>=Calculator!$N$8),Calculator!$N$8,\"\")","v":""},9.31,{"$f":"IF(AND(Calculator!$N$6=Tabelle2!$E44,Calculator!$N$7=Tabelle2!$F44,J44<=Calculator!$N$8,Tabelle2!L44>=Calculator!$N$8),Calculator!$N$8,\"\")","v":""},11.91,{"$f":"IF(AND(Calculator!$N$6=Tabelle2!$E44,Calculator!$N$7=Tabelle2!$F44,L44<=Calculator!$N$8,Tabelle2!N44>=Calculator!$N$8),Calculator!$N$8,\"\")","v":""},14.52,{"$f":"IF(AND(Calculator!$N$6=Tabelle2!$E44,Calculator!$N$7=Tabelle2!$F44,N44<=Calculator!$N$8,Tabelle2!P44>=Calculator!$N$8),Calculator!$N$8,\"\")","v":""},17.13,{"$f":"IF(AND(Calculator!$N$6=Tabelle2!$E44,Calculator!$N$7=Tabelle2!$F44,P44<=Calculator!$N$8,Tabelle2!R44>=Calculator!$N$8),Calculator!$N$8,\"\")","v":""},19.739999999999998]
[null,null,null,null,110,7,"Total Input Power",51.24,{"$f":"IF(I44=\"\",\"\",H45+(I44-H44)/(J44-H44)*(J45-H45))","v":""},63.9,{"$f":"IF(K44=\"\",\"\",J45+(K44-J44)/(L44-J44)*(L45-J45))","v":""},77.5,{"$f":"IF(M44=\"\",\"\",L45+(M44-L44)/(N44-L44)*(N45-L45))","v":""},92.19,{"$f":"IF(O44=\"\",\"\",N45+(O44-N44)/(P44-N44)*(P45-N45))","v":""},107.74,{"$f":"IF(Q44=\"\",\"\",P45+(Q44-P44)/(R44-P44)*(R45-P45))","v":""},124.34]
[null,null,null,null,110,7.5,"FAD",6.7,{"$f":"IF(AND(Calculator!$N$6=Tabelle2!$E46,Calculator!$N$7=Tabelle2!$F46,H46<=Calculator!$N$8,Tabelle2!J46>=Calculator!$N$8),Calculator!$N$8,\"\")","v":""},9.19,{"$f":"IF(AND(Calculator!$N$6=Tabelle2!$E46,Calculator!$N$7=Tabelle2!$F46,J46<=Calculator!$N$8,Tabelle2!L46>=Calculator!$N$8),Calculator!$N$8,\"\")","v":""},11.67,{"$f":"IF(AND(Calculator!$N$6=Tabelle2!$E46,Calculator!$N$7=Tabelle2!$F46,L46<=Calculator!$N$8,Tabelle2!N46>=Calculator!$N$8),Calculator!$N$8,\"\")","v":""},14.16,{"$f":"IF(AND(Calculator!$N$6=Tabelle2!$E46,Calculator!$N$7=Tabelle2!$F46,N46<=Calculator!$N$8,Tabelle2!P46>=Calculator!$N$8),Calculator!$N$8,\"\")","v":""},16.649999999999999,{"$f":"IF(AND(Calculator!$N$6=Tabelle2!$E46,Calculator!$N$7=Tabelle2!$F46,P46<=Calculator!$N$8,Tabelle2!R46>=Calculator!$N$8),Calculator!$N$8,\"\")","v":""},19.13]
[null,null,null,null,110,7.5,"Total Input Power",53.51,{"$f":"IF(I46=\"\",\"\",H47+(I46-H46)/(J46-H46)*(J47-H47))","v":""},65.92,{"$f":"IF(K46=\"\",\"\",J47+(K46-J46)/(L46-J46)*(L47-J47))","v":""},79.19,{"$f":"IF(M46=\"\",\"\",L47+(M46-L46)/(N46-L46)*(N47-L47))","v":""},93.43,{"$f":"IF(O46=\"\",\"\",N47+(O46-N46)/(P46-N46)*(P47-N47))","v":""},108.39,{"$f":"IF(Q46=\"\",\"\",P47+(Q46-P46)/(R46-P46)*(R47-P47))","v":""},124.28]
[null,null,null,null,110,8,"FAD",6.7,{"$f":"IF(AND(Calculator!$N$6=Tabelle2!$E48,Calculator!$N$7=Tabelle2!$F48,H48<=Calculator!$N$8,Tabelle2!J48>=Calculator!$N$8),Calculator!$N$8,\"\")","v":""},9.06,{"$f":"IF(AND(Calculator!$N$6=Tabelle2!$E48,Calculator!$N$7=Tabelle2!$F48,J48<=Calculator!$N$8,Tabelle2!L48>=Calculator!$N$8),Calculator!$N$8,\"\")","v":""},11.43,{"$f":"IF(AND(Calculator!$N$6=Tabelle2!$E48,Calculator!$N$7=Tabelle2!$F48,L48<=Calculator!$N$8,Tabelle2!N48>=Calculator!$N$8),Calculator!$N$8,\"\")","v":""},13.79,{"$f":"IF(AND(Calculator!$N$6=Tabelle2!$E48,Calculator!$N$7=Tabelle2!$F48,N48<=Calculator!$N$8,Tabelle2!P48>=Calculator!$N$8),Calculator!$N$8,\"\")","v":""},16.149999999999999,{"$f":"IF(AND(Calculator!$N$6=Tabelle2!$E48,Calculator!$N$7=Tabelle2!$F48,P48<=Calculator!$N$8,Tabelle2!R48>=Calculator!$N$8),Calculator!$N$8,\"\")","v":""},18.52]
[null,null,null,null,110,8,"Total Input Power",55.87,{"$f":"IF(I48=\"\",\"\",H49+(I48-H48)/(J48-H48)*(J49-H49))","v":""},67.959999999999994,{"$f":"IF(K48=\"\",\"\",J49+(K48-J48)/(L48-J48)*(L49-J49))","v":""},80.84,{"$f":"IF(M48=\"\",\"\",L49+(M48-L48)/(N48-L48)*(N49-L49))","v":""},94.59,{"$f":"IF(O48=\"\",\"\",N49+(O48-N48)/(P48-N48)*(P49-N49))","v":""},108.94,{"$f":"IF(Q48=\"\",\"\",P49+(Q48-P48)/(R48-P48)*(R49-P49))","v":""},124.14]
[null,null,null,null,110,8.5,"FAD",6.95,{"$f":"IF(AND(Calculator!$N$6=Tabelle2!$E50,Calculator!$N$7=Tabelle2!$F50,H50<=Calculator!$N$8,Tabelle2!J50>=Calculator!$N$8),Calculator!$N$8,\"\")","v":""},9.15,{"$f":"IF(AND(Calculator!$N$6=Tabelle2!$E50,Calculator!$N$7=Tabelle2!$F50,J50<=Calculator!$N$8,Tabelle2!L50>=Calculator!$N$8),Calculator!$N$8,\"\")","v":""},11.35,{"$f":"IF(AND(Calculator!$N$6=Tabelle2!$E50,Calculator!$N$7=Tabelle2!$F50,L50<=Calculator!$N$8,Tabelle2!N50>=Calculator!$N$8),Calculator!$N$8,\"\")","v":""},13.56,{"$f":"IF(AND(Calculator!$N$6=Tabelle2!$E50,Calculator!$N$7=Tabelle2!$F50,N50<=Calculator!$N$8,Tabelle2!P50>=Calculator!$N$8),Calculator!$N$8,\"\")","v":""},15.76,{"$f":"IF(AND(Calculator!$N$6=Tabelle2!$E50,Calculator!$N$7=Tabelle2!$F50,P50<=Calculator!$N$8,Tabelle2!R50>=Calculator!$N$8),Calculator!$N$8,\"\")","v":""},17.96]
[null,null,null,null,110,8.5,"Total Input Power",59.64,{"$f":"IF(I50=\"\",\"\",H51+(I50-H50)/(J50-H50)*(J51-H51))","v":""},71.19,{"$f":"IF(K50=\"\",\"\",J51+(K50-J50)/(L50-J50)*(L51-J51))","v":""},83.46,{"$f":"IF(M50=\"\",\"\",L51+(M50-L50)/(N50-L50)*(N51-L51))","v":""},96.5,{"$f":"IF(O50=\"\",\"\",N51+(O50-N50)/(P50-N50)*(P51-N51))","v":""},110,{"$f":"IF(Q50=\"\",\"\",P51+(Q50-P50)/(R50-P50)*(R51-P51))","v":""},124.3]
[null,null,null,null,110,9,"FAD",7.2,{"$f":"IF(AND(Calculator!$N$6=Tabelle2!$E52,Calculator!$N$7=Tabelle2!$F52,H52<=Calculator!$N$8,Tabelle2!J52>=Calculator!$N$8),Calculator!$N$8,\"\")","v":""},9.24,{"$f":"IF(AND(Calculator!$N$6=Tabelle2!$E52,Calculator!$N$7=Tabelle2!$F52,J52<=Calculator!$N$8,Tabelle2!L52>=Calculator!$N$8),Calculator!$N$8,\"\")","v":""},11.28,{"$f":"IF(AND(Calculator!$N$6=Tabelle2!$E52,Calculator!$N$7=Tabelle2!$F52,L52<=Calculator!$N$8,Tabelle2!N52>=Calculator!$N$8),Calculator!$N$8,\"\")","v":""},13.32,{"$f":"IF(AND(Calculator!$N$6=Tabelle2!$E52,Calculator!$N$7=Tabelle2!$F52,N52<=Calculator!$N$8,Tabelle2!P52>=Calculator!$N$8),Calculator!$N$8,\"\")","v":""},15.36,{"$f":"IF(AND(Calculator!$N$6=Tabelle2!$E52,Calculator!$N$7=Tabelle2!$F52,P52<=Calculator!$N$8,Tabelle2!R52>=Calculator!$N$8),Calculator!$N$8,\"\")","v":""},17.399999999999999]
[null,null,null,null,110,9,"Total Input Power",63.58,{"$f":"IF(I52=\"\",\"\",H53+(I52-H52)/(J52-H52)*(J53-H53))","v":""},74.510000000000005,{"$f":"IF(K52=\"\",\"\",J53+(K52-J52)/(L52-J52)*(L53-J53))","v":""},86.1,{"$f":"IF(M52=\"\",\"\",L53+(M52-L52)/(N52-L52)*(N53-L53))","v":""},98.36,{"$f":"IF(O52=\"\",\"\",N53+(O52-N52)/(P52-N52)*(P53-N53))","v":""},110.99,{"$f":"IF(Q52=\"\",\"\",P53+(Q52-P52)/(R52-P52)*(R53-P53))","v":""},124.38]
[null,null,null,null,110,10,"FAD",7.7,{"$f":"IF(AND(Calculator!$N$6=Tabelle2!$E54,Calculator!$N$7=Tabelle2!$F54,H54<=Calculator!$N$8,Tabelle2!J54>=Calculator!$N$8),Calculator!$N$8,\"\")","v":""},9.41,{"$f":"IF(AND(Calculator!$N$6=Tabelle2!$E54,Calculator!$N$7=Tabelle2!$F54,J54<=Calculator!$N$8,Tabelle2!L54>=Calculator!$N$8),Calculator!$N$8,\"\")","v":""},11.13,{"$f":"IF(AND(Calculator!$N$6=Tabelle2!$E54,Calculator!$N$7=Tabelle2!$F54,L54<=Calculator!$N$8,Tabelle2!N54>=Calculator!$N$8),Calculator!$N$8,\"\")","v":""},12.84,{"$f":"IF(AND(Calculator!$N$6=Tabelle2!$E54,Calculator!$N$7=Tabelle2!$F54,N54<=Calculator!$N$8,Tabelle2!P54>=Calculator!$N$8),Calculator!$N$8,\"\")","v":""},14.56,{"$f":"IF(AND(Calculator!$N$6=Tabelle2!$E54,Calculator!$N$7=Tabelle2!$F54,P54<=Calculator!$N$8,Tabelle2!R54>=Calculator!$N$8),Calculator!$N$8,\"\")","v":""},16.27]
[null,null,null,null,110,10,"Total Input Power",71.77,{"$f":"IF(I54=\"\",\"\",H55+(I54-H54)/(J54-H54)*(J55-H55))","v":""},81.33,{"$f":"IF(K54=\"\",\"\",J55+(K54-J54)/(L54-J54)*(L55-J55))","v":""},91.43,{"$f":"IF(M54=\"\",\"\",L55+(M54-L54)/(N54-L54)*(N55-L55))","v":""},101.97,{"$f":"IF(O54=\"\",\"\",N55+(O54-N54)/(P54-N54)*(P55-N55))","v":""},112.77,{"$f":"IF(Q54=\"\",\"\",P55+(Q54-P54)/(R54-P54)*(R55-P55))","v":""},124.24]
[null,null,null,null,90,4,"FAD",6.7,{"$f":"IF(AND(Calculator!$N$6=Tabelle2!$E56,Calculator!$N$7=Tabelle2!$F56,H56<=Calculator!$N$8,Tabelle2!J56>=Calculator!$N$8),Calculator!$N$8,\"\")","v":""},9.27,{"$f":"IF(AND(Calculator!$N$6=Tabelle2!$E56,Calculator!$N$7=Tabelle2!$F56,J56<=Calculator!$N$8,Tabelle2!L56>=Calculator!$N$8),Calculator!$N$8,\"\")","v":""},11.85,{"$f":"IF(AND(Calculator!$N$6=Tabelle2!$E56,Calculator!$N$7=Tabelle2!$F56,L56<=Calculator!$N$8,Tabelle2!N56>=Calculator!$N$8),Calculator!$N$8,\"\")","v":""},14.42,{"$f":"IF(AND(Calculator!$N$6=Tabelle2!$E56,Calculator!$N$7=Tabelle2!$F56,N56<=Calculator!$N$8,Tabelle2!P56>=Calculator!$N$8),Calculator!$N$8,\"\")","v":""},16.989999999999998,{"$f":"IF(AND(Calculator!$N$6=Tabelle2!$E56,Calculator!$N$7=Tabelle2!$F56,P56<=Calculator!$N$8,Tabelle2!R56>=Calculator!$N$8),Calculator!$N$8,\"\")","v":""},19.559999999999999]
[null,null,null,null,90,4,"Total Input Power",37.92,{"$f":"IF(I56=\"\",\"\",H57+(I56-H56)/(J56-H56)*(J57-H57))","v":""},48.3,{"$f":"IF(K56=\"\",\"\",J57+(K56-J56)/(L56-J56)*(L57-J57))","v":""},59.6,{"$f":"IF(M56=\"\",\"\",L57+(M56-L56)/(N56-L56)*(N57-L57))","v":""},72.040000000000006,{"$f":"IF(O56=\"\",\"\",N57+(O56-N56)/(P56-N56)*(P57-N57))","v":""},85.7,{"$f":"IF(Q56=\"\",\"\",P57+(Q56-P56)/(R56-P56)*(R57-P57))","v":""},100.69]
[null,null,null,null,90,5,"FAD",6.7,{"$f":"IF(AND(Calculator!$N$6=Tabelle2!$E58,Calculator!$N$7=Tabelle2!$F58,H58<=Calculator!$N$8,Tabelle2!J58>=Calculator!$N$8),Calculator!$N$8,\"\")","v":""},9.0399999999999991,{"$f":"IF(AND(Calculator!$N$6=Tabelle2!$E58,Calculator!$N$7=Tabelle2!$F58,J58<=Calculator!$N$8,Tabelle2!L58>=Calculator!$N$8),Calculator!$N$8,\"\")","v":""},11.39,{"$f":"IF(AND(Calculator!$N$6=Tabelle2!$E58,Calculator!$N$7=Tabelle2!$F58,L58<=Calculator!$N$8,Tabelle2!N58>=Calculator!$N$8),Calculator!$N$8,\"\")","v":""},13.73,{"$f":"IF(AND(Calculator!$N$6=Tabelle2!$E58,Calculator!$N$7=Tabelle2!$F58,N58<=Calculator!$N$8,Tabelle2!P58>=Calculator!$N$8),Calculator!$N$8,\"\")","v":""},16.079999999999998,{"$f":"IF(AND(Calculator!$N$6=Tabelle2!$E58,Calculator!$N$7=Tabelle2!$F58,P58<=Calculator!$N$8,Tabelle2!R58>=Calculator!$N$8),Calculator!$N$8,\"\")","v":""},18.420000000000002]
[null,null,null,null,90,5,"Total Input Power",42.36,{"$f":"IF(I58=\"\",\"\",H59+(I58-H58)/(J58-H58)*(J59-H59))","v":""},52.4,{"$f":"IF(K58=\"\",\"\",J59+(K58-J58)/(L58-J58)*(L59-J59))","v":""},63.16,{"$f":"IF(M58=\"\",\"\",L59+(M58-L58)/(N58-L58)*(N59-L59))","v":""},74.84,{"$f":"IF(O58=\"\",\"\",N59+(O58-N58)/(P58-N58)*(P59-N59))","v":""},87.47,{"$f":"IF(Q58=\"\",\"\",P59+(Q58-P58)/(R58-P58)*(R59-P59))","v":""},101.11]
[null,null,null,null,90,6,"FAD",6.7,{"$f":"IF(AND(Calculator!$N$6=Tabelle2!$E60,Calculator!$N$7=Tabelle2!$F60,H60<=Calculator!$N$8,Tabelle2!J60>=Calculator!$N$8),Calculator!$N$8,\"\")","v":""},8.81,{"$f":"IF(AND(Calculator!$N$6=Tabelle2!$E60,Calculator!$N$7=Tabelle2!$F60,J60<=Calculator!$N$8,Tabelle2!L60>=Calculator!$N$8),Calculator!$N$8,\"\")","v":""},10.91,{"$f":"IF(AND(Calculator!$N$6=Tabelle2!$E60,Calculator!$N$7=Tabelle2!$F60,L60<=Calculator!$N$8,Tabelle2!N60>=Calculator!$N$8),Calculator!$N$8,\"\")","v":""},13.02,{"$f":"IF(AND(Calculator!$N$6=Tabelle2!$E60,Calculator!$N$7=Tabelle2!$F60,N60<=Calculator!$N$8,Tabelle2!P60>=Calculator!$N$8),Calculator!$N$8,\"\")","v":""},15.12,{"$f":"IF(AND(Calculator!$N$6=Tabelle2!$E60,Calculator!$N$7=Tabelle2!$F60,P60<=Calculator!$N$8,Tabelle2!R60>=Calculator!$N$8),Calculator!$N$8,\"\")","v":""},17.23]
[null,null,null,null,90,6,"Total Input Power",46.81,{"$f":"IF(I60=\"\",\"\",H61+(I60-H60)/(J60-H60)*(J61-H61))","v":""},56.36,{"$f":"IF(K60=\"\",\"\",J61+(K60-J60)/(L60-J60)*(L61-J61))","v":""},66.48,{"$f":"IF(M60=\"\",\"\",L61+(M60-L60)/(N60-L60)*(N61-L61))","v":""},77.31,{"$f":"IF(O60=\"\",\"\",N61+(O60-N60)/(P60-N60)*(P61-N61))","v":""},88.87,{"$f":"IF(Q60=\"\",\"\",P61+(Q60-P60)/(R60-P60)*(R61-P61))","v":""},101.15]
[null,null,null,null,90,7,"FAD",6.7,{"$f":"IF(AND(Calculator!$N$6=Tabelle2!$E62,Calculator!$N$7=Tabelle2!$F62,H62<=Calculator!$N$8,Tabelle2!J62>=Calculator!$N$8),Calculator!$N$8,\"\")","v":""},8.57,{"$f":"IF(AND(Calculator!$N$6=Tabelle2!$E62,Calculator!$N$7=Tabelle2!$F62,J62<=Calculator!$N$8,Tabelle2!L62>=Calculator!$N$8),Calculator!$N$8,\"\")","v":""},10.45,{"$f":"IF(AND(Calculator!$N$6=Tabelle2!$E62,Calculator!$N$7=Tabelle2!$F62,L62<=Calculator!$N$8,Tabelle2!N62>=Calculator!$N$8),Calculator!$N$8,\"\")","v":""},12.32,{"$f":"IF(AND(Calculator!$N$6=Tabelle2!$E62,Calculator!$N$7=Tabelle2!$F62,N62<=Calculator!$N$8,Tabelle2!P62>=Calculator!$N$8),Calculator!$N$8,\"\")","v":""},14.2,{"$f":"IF(AND(Calculator!$N$6=Tabelle2!$E62,Calculator!$N$7=Tabelle2!$F62,P62<=Calculator!$N$8,Tabelle2!R62>=Calculator!$N$8),Calculator!$N$8,\"\")","v":""},16.07]
[null,null,null,null,90,7,"Total Input Power",51.24,{"$f":"IF(I62=\"\",\"\",H63+(I62-H62)/(J62-H62)*(J63-H63))","v":""},60.26,{"$f":"IF(K62=\"\",\"\",J63+(K62-J62)/(L62-J62)*(L63-J63))","v":""},69.72,{"$f":"IF(M62=\"\",\"\",L63+(M62-L62)/(N62-L62)*(N63-L63))","v":""},79.72,{"$f":"IF(O62=\"\",\"\",N63+(O62-N62)/(P62-N62)*(P63-N63))","v":""},90.29,{"$f":"IF(Q62=\"\",\"\",P63+(Q62-P62)/(R62-P62)*(R63-P63))","v":""},101.35]
[null,null,null,null,90,7.5,"FAD",6.7,{"$f":"IF(AND(Calculator!$N$6=Tabelle2!$E64,Calculator!$N$7=Tabelle2!$F64,H64<=Calculator!$N$8,Tabelle2!J64>=Calculator!$N$8),Calculator!$N$8,\"\")","v":""},8.4600000000000009,{"$f":"IF(AND(Calculator!$N$6=Tabelle2!$E64,Calculator!$N$7=Tabelle2!$F64,J64<=Calculator!$N$8,Tabelle2!L64>=Calculator!$N$8),Calculator!$N$8,\"\")","v":""},10.210000000000001,{"$f":"IF(AND(Calculator!$N$6=Tabelle2!$E64,Calculator!$N$7=Tabelle2!$F64,L64<=Calculator!$N$8,Tabelle2!N64>=Calculator!$N$8),Calculator!$N$8,\"\")","v":""},11.97,{"$f":"IF(AND(Calculator!$N$6=Tabelle2!$E64,Calculator!$N$7=Tabelle2!$F64,N64<=Calculator!$N$8,Tabelle2!P64>=Calculator!$N$8),Calculator!$N$8,\"\")","v":""},13.72,{"$f":"IF(AND(Calculator!$N$6=Tabelle2!$E64,Calculator!$N$7=Tabelle2!$F64,P64<=Calculator!$N$8,Tabelle2!R64>=Calculator!$N$8),Calculator!$N$8,\"\")","v":""},15.48]
[null,null,null,null,90,7.5,"Total Input Power",53.51,{"$f":"IF(I64=\"\",\"\",H65+(I64-H64)/(J64-H64)*(J65-H65))","v":""},62.2,{"$f":"IF(K64=\"\",\"\",J65+(K64-J64)/(L64-J64)*(L65-J65))","v":""},71.260000000000005,{"$f":"IF(M64=\"\",\"\",L65+(M64-L64)/(N64-L64)*(N65-L65))","v":""},80.81,{"$f":"IF(O64=\"\",\"\",N65+(O64-N64)/(P64-N64)*(P65-N65))","v":""},90.85,{"$f":"IF(Q64=\"\",\"\",P65+(Q64-P64)/(R64-P64)*(R65-P65))","v":""},101.29]
[null,null,null,null,90,8,"FAD",6.7,{"$f":"IF(AND(Calculator!$N$6=Tabelle2!$E66,Calculator!$N$7=Tabelle2!$F66,H66<=Calculator!$N$8,Tabelle2!J66>=Calculator!$N$8),Calculator!$N$8,\"\")","v":""},8.34,{"$f":"IF(AND(Calculator!$N$6=Tabelle2!$E66,Calculator!$N$7=Tabelle2!$F66,J66<=Calculator!$N$8,Tabelle2!L66>=Calculator!$N$8),Calculator!$N$8,\"\")","v":""},9.9700000000000006,{"$f":"IF(AND(Calculator!$N$6=Tabelle2!$E66,Calculator!$N$7=Tabelle2!$F66,L66<=Calculator!$N$8,Tabelle2!N66>=Calculator!$N$8),Calculator!$N$8,\"\")","v":""},11.61,{"$f":"IF(AND(Calculator!$N$6=Tabelle2!$E66,Calculator!$N$7=Tabelle2!$F66,N66<=Calculator!$N$8,Tabelle2!P66>=Calculator!$N$8),Calculator!$N$8,\"\")","v":""},13.24,{"$f":"IF(AND(Calculator!$N$6=Tabelle2!$E66,Calculator!$N$7=Tabelle2!$F66,P66<=Calculator!$N$8,Tabelle2!R66>=Calculator!$N$8),Calculator!$N$8,\"\")","v":""},14.88]
[null,null,null,null,90,8,"Total Input Power",55.87,{"$f":"IF(I66=\"\",\"\",H67+(I66-H66)/(J66-H66)*(J67-H67))","v":""},64.17,{"$f":"IF(K66=\"\",\"\",J67+(K66-J66)/(L66-J66)*(L67-J67))","v":""},72.8,{"$f":"IF(M66=\"\",\"\",L67+(M66-L66)/(N66-L66)*(N67-L67))","v":""},81.849999999999994,{"$f":"IF(O66=\"\",\"\",N67+(O66-N66)/(P66-N66)*(P67-N67))","v":""},91.33,{"$f":"IF(Q66=\"\",\"\",P67+(Q66-P66)/(R66-P66)*(R67-P67))","v":""},101.14]
[null,null,null,null,90,8.5,"FAD",6.95,{"$f":"IF(AND(Calculator!$N$6=Tabelle2!$E68,Calculator!$N$7=Tabelle2!$F68,H68<=Calculator!$N$8,Tabelle2!J68>=Calculator!$N$8),Calculator!$N$8,\"\")","v":""},8.43,{"$f":"IF(AND(Calculator!$N$6=Tabelle2!$E68,Calculator!$N$7=Tabelle2!$F68,J68<=Calculator!$N$8,Tabelle2!L68>=Calculator!$N$8),Calculator!$N$8,\"\")","v":""},9.91,{"$f":"IF(AND(Calculator!$N$6=Tabelle2!$E68,Calculator!$N$7=Tabelle2!$F68,L68<=Calculator!$N$8,Tabelle2!N68>=Calculator!$N$8),Calculator!$N$8,\"\")","v":""},11.39,{"$f":"IF(AND(Calculator!$N$6=Tabelle2!$E68,Calculator!$N$7=Tabelle2!$F68,N68<=Calculator!$N$8,Tabelle2!P68>=Calculator!$N$8),Calculator!$N$8,\"\")","v":""},12.86,{"$f":"IF(AND(Calculator!$N$6=Tabelle2!$E68,Calculator!$N$7=Tabelle2!$F68,P68<=Calculator!$N$8,Tabelle2!R68>=Calculator!$N$8),Calculator!$N$8,\"\")","v":""},14.34]
[null,null,null,null,90,8.5,"Total Input Power",59.64,{"$f":"IF(I68=\"\",\"\",H69+(I68-H68)/(J68-H68)*(J69-H69))","v":""},67.33,{"$f":"IF(K68=\"\",\"\",J69+(K68-J68)/(L68-J68)*(L69-J69))","v":""},75.31,{"$f":"IF(M68=\"\",\"\",L69+(M68-L68)/(N68-L68)*(N69-L69))","v":""},83.64,{"$f":"IF(O68=\"\",\"\",N69+(O68-N68)/(P68-N68)*(P69-N69))","v":""},92.34,{"$f":"IF(Q68=\"\",\"\",P69+(Q68-P68)/(R68-P68)*(R69-P69))","v":""},101.29]
[null,null,null,null,90,9,"FAD",7.2,{"$f":"IF(AND(Calculator!$N$6=Tabelle2!$E70,Calculator!$N$7=Tabelle2!$F70,H70<=Calculator!$N$8,Tabelle2!J70>=Calculator!$N$8),Calculator!$N$8,\"\")","v":""},8.52,{"$f":"IF(AND(Calculator!$N$6=Tabelle2!$E70,Calculator!$N$7=Tabelle2!$F70,J70<=Calculator!$N$8,Tabelle2!L70>=Calculator!$N$8),Calculator!$N$8,\"\")","v":""},9.84,{"$f":"IF(AND(Calculator!$N$6=Tabelle2!$E70,Calculator!$N$7=Tabelle2!$F70,L70<=Calculator!$N$8,Tabelle2!N70>=Calculator!$N$8),Calculator!$N$8,\"\")","v":""},11.16,{"$f":"IF(AND(Calculator!$N$6=Tabelle2!$E70,Calculator!$N$7=Tabelle2!$F70,N70<=Calculator!$N$8,Tabelle2!P70>=Calculator!$N$8),Calculator!$N$8,\"\")","v":""},12.49,{"$f":"IF(AND(Calculator!$N$6=Tabelle2!$E70,Calculator!$N$7=Tabelle2!$F70,P70<=Calculator!$N$8,Tabelle2!R70>=Calculator!$N$8),Calculator!$N$8,\"\")","v":""},13.81]
[null,null,null,null,90,9,"Total Input Power",63.58,{"$f":"IF(I70=\"\",\"\",H71+(I70-H70)/(J70-H70)*(J71-H71))","v":""},70.59,{"$f":"IF(K70=\"\",\"\",J71+(K70-J70)/(L70-J70)*(L71-J71))","v":""},77.86,{"$f":"IF(M70=\"\",\"\",L71+(M70-L70)/(N70-L70)*(N71-L71))","v":""},85.43,{"$f":"IF(O70=\"\",\"\",N71+(O70-N70)/(P70-N70)*(P71-N71))","v":""},93.29,{"$f":"IF(Q70=\"\",\"\",P71+(Q70-P70)/(R70-P70)*(R71-P71))","v":""},101.36]
[null,null,null,null,90,10,"FAD",7.7,{"$f":"IF(AND(Calculator!$N$6=Tabelle2!$E72,Calculator!$N$7=Tabelle2!$F72,H72<=Calculator!$N$8,Tabelle2!J72>=Calculator!$N$8),Calculator!$N$8,\"\")","v":""},8.6999999999999993,{"$f":"IF(AND(Calculator!$N$6=Tabelle2!$E72,Calculator!$N$7=Tabelle2!$F72,J72<=Calculator!$N$8,Tabelle2!L72>=Calculator!$N$8),Calculator!$N$8,\"\")","v":""},9.7100000000000009,{"$f":"IF(AND(Calculator!$N$6=Tabelle2!$E72,Calculator!$N$7=Tabelle2!$F72,L72<=Calculator!$N$8,Tabelle2!N72>=Calculator!$N$8),Calculator!$N$8,\"\")","v":""},10.71,{"$f":"IF(AND(Calculator!$N$6=Tabelle2!$E72,Calculator!$N$7=Tabelle2!$F72,N72<=Calculator!$N$8,Tabelle2!P72>=Calculator!$N$8),Calculator!$N$8,\"\")","v":""},11.72,{"$f":"IF(AND(Calculator!$N$6=Tabelle2!$E72,Calculator!$N$7=Tabelle2!$F72,P72<=Calculator!$N$8,Tabelle2!R72>=Calculator!$N$8),Calculator!$N$8,\"\")","v":""},12.72]
[null,null,null,null,90,10,"Total Input Power",71.77,{"$f":"IF(I72=\"\",\"\",H73+(I72-H72)/(J72-H72)*(J73-H73))","v":""},77.31,{"$f":"IF(K72=\"\",\"\",J73+(K72-J72)/(L72-J72)*(L73-J73))","v":""},83.03,{"$f":"IF(M72=\"\",\"\",L73+(M72-L72)/(N72-L72)*(N73-L73))","v":""},88.94,{"$f":"IF(O72=\"\",\"\",N73+(O72-N72)/(P72-N72)*(P73-N73))","v":""},95.02,{"$f":"IF(Q72=\"\",\"\",P73+(Q72-P72)/(R72-P72)*(R73-P73))","v":""},101.23]
[null,null,null,null,75,4,"FAD",6.7,{"$f":"IF(AND(Calculator!$N$6=Tabelle2!$E74,Calculator!$N$7=Tabelle2!$F74,H74<=Calculator!$N$8,Tabelle2!J74>=Calculator!$N$8),Calculator!$N$8,\"\")","v":""},8.67,{"$f":"IF(AND(Calculator!$N$6=Tabelle2!$E74,Calculator!$N$7=Tabelle2!$F74,J74<=Calculator!$N$8,Tabelle2!L74>=Calculator!$N$8),Calculator!$N$8,\"\")","v":""},10.65,{"$f":"IF(AND(Calculator!$N$6=Tabelle2!$E74,Calculator!$N$7=Tabelle2!$F74,L74<=Calculator!$N$8,Tabelle2!N74>=Calculator!$N$8),Calculator!$N$8,\"\")","v":""},12.62,{"$f":"IF(AND(Calculator!$N$6=Tabelle2!$E74,Calculator!$N$7=Tabelle2!$F74,N74<=Calculator!$N$8,Tabelle2!P74>=Calculator!$N$8),Calculator!$N$8,\"\")","v":""},14.6,{"$f":"IF(AND(Calculator!$N$6=Tabelle2!$E74,Calculator!$N$7=Tabelle2!$F74,P74<=Calculator!$N$8,Tabelle2!R74>=Calculator!$N$8),Calculator!$N$8,\"\")","v":""},16.57]
[null,null,null,null,75,4,"Total Input Power",37.92,{"$f":"IF(I74=\"\",\"\",H75+(I74-H74)/(J74-H74)*(J75-H75))","v":""},45.83,{"$f":"IF(K74=\"\",\"\",J75+(K74-J74)/(L74-J74)*(L75-J75))","v":""},54.21,{"$f":"IF(M74=\"\",\"\",L75+(M74-L74)/(N74-L74)*(N75-L75))","v":""},63.25,{"$f":"IF(O74=\"\",\"\",N75+(O74-N74)/(P74-N74)*(P75-N75))","v":""},72.959999999999994,{"$f":"IF(Q74=\"\",\"\",P75+(Q74-P74)/(R74-P74)*(R75-P75))","v":""},83.4]
[null,null,null,null,75,5,"FAD",6.7,{"$f":"IF(AND(Calculator!$N$6=Tabelle2!$E76,Calculator!$N$7=Tabelle2!$F76,H76<=Calculator!$N$8,Tabelle2!J76>=Calculator!$N$8),Calculator!$N$8,\"\")","v":""},8.44,{"$f":"IF(AND(Calculator!$N$6=Tabelle2!$E76,Calculator!$N$7=Tabelle2!$F76,J76<=Calculator!$N$8,Tabelle2!L76>=Calculator!$N$8),Calculator!$N$8,\"\")","v":""},10.18,{"$f":"IF(AND(Calculator!$N$6=Tabelle2!$E76,Calculator!$N$7=Tabelle2!$F76,L76<=Calculator!$N$8,Tabelle2!N76>=Calculator!$N$8),Calculator!$N$8,\"\")","v":""},11.93,{"$f":"IF(AND(Calculator!$N$6=Tabelle2!$E76,Calculator!$N$7=Tabelle2!$F76,N76<=Calculator!$N$8,Tabelle2!P76>=Calculator!$N$8),Calculator!$N$8,\"\")","v":""},13.67,{"$f":"IF(AND(Calculator!$N$6=Tabelle2!$E76,Calculator!$N$7=Tabelle2!$F76,P76<=Calculator!$N$8,Tabelle2!R76>=Calculator!$N$8),Calculator!$N$8,\"\")","v":""},15.41]
[null,null,null,null,75,5,"Total Input Power",42.36,{"$f":"IF(I76=\"\",\"\",H77+(I76-H76)/(J76-H76)*(J77-H77))","v":""},49.77,{"$f":"IF(K76=\"\",\"\",J77+(K76-J76)/(L76-J76)*(L77-J77))","v":""},57.52,{"$f":"IF(M76=\"\",\"\",L77+(M76-L76)/(N76-L76)*(N77-L77))","v":""},65.760000000000005,{"$f":"IF(O76=\"\",\"\",N77+(O76-N76)/(P76-N76)*(P77-N77))","v":""},74.5,{"$f":"IF(Q76=\"\",\"\",P77+(Q76-P76)/(R76-P76)*(R77-P77))","v":""},83.78]
[null,null,null,null,75,6,"FAD",6.7,{"$f":"IF(AND(Calculator!$N$6=Tabelle2!$E78,Calculator!$N$7=Tabelle2!$F78,H78<=Calculator!$N$8,Tabelle2!J78>=Calculator!$N$8),Calculator!$N$8,\"\")","v":""},8.1999999999999993,{"$f":"IF(AND(Calculator!$N$6=Tabelle2!$E78,Calculator!$N$7=Tabelle2!$F78,J78<=Calculator!$N$8,Tabelle2!L78>=Calculator!$N$8),Calculator!$N$8,\"\")","v":""},9.6999999999999993,{"$f":"IF(AND(Calculator!$N$6=Tabelle2!$E78,Calculator!$N$7=Tabelle2!$F78,L78<=Calculator!$N$8,Tabelle2!N78>=Calculator!$N$8),Calculator!$N$8,\"\")","v":""},11.2,{"$f":"IF(AND(Calculator!$N$6=Tabelle2!$E78,Calculator!$N$7=Tabelle2!$F78,N78<=Calculator!$N$8,Tabelle2!P78>=Calculator!$N$8),Calculator!$N$8,\"\")","v":""},12.7,{"$f":"IF(AND(Calculator!$N$6=Tabelle2!$E78,Calculator!$N$7=Tabelle2!$F78,P78<=Calculator!$N$8,Tabelle2!R78>=Calculator!$N$8),Calculator!$N$8,\"\")","v":""},14.2]
[null,null,null,null,75,6,"Total Input Power",46.81,{"$f":"IF(I78=\"\",\"\",H79+(I78-H78)/(J78-H78)*(J79-H79))","v":""},53.57,{"$f":"IF(K78=\"\",\"\",J79+(K78-J78)/(L78-J78)*(L79-J79))","v":""},60.57,{"$f":"IF(M78=\"\",\"\",L79+(M78-L78)/(N78-L78)*(N79-L79))","v":""},67.92,{"$f":"IF(O78=\"\",\"\",N79+(O78-N78)/(P78-N78)*(P79-N79))","v":""},75.63,{"$f":"IF(Q78=\"\",\"\",P79+(Q78-P78)/(R78-P78)*(R79-P79))","v":""},83.71]
[null,null,null,null,75,7,"FAD",6.7,{"$f":"IF(AND(Calculator!$N$6=Tabelle2!$E80,Calculator!$N$7=Tabelle2!$F80,H80<=Calculator!$N$8,Tabelle2!J80>=Calculator!$N$8),Calculator!$N$8,\"\")","v":""},7.98,{"$f":"IF(AND(Calculator!$N$6=Tabelle2!$E80,Calculator!$N$7=Tabelle2!$F80,J80<=Calculator!$N$8,Tabelle2!L80>=Calculator!$N$8),Calculator!$N$8,\"\")","v":""},9.25,{"$f":"IF(AND(Calculator!$N$6=Tabelle2!$E80,Calculator!$N$7=Tabelle2!$F80,L80<=Calculator!$N$8,Tabelle2!N80>=Calculator!$N$8),Calculator!$N$8,\"\")","v":""},10.53,{"$f":"IF(AND(Calculator!$N$6=Tabelle2!$E80,Calculator!$N$7=Tabelle2!$F80,N80<=Calculator!$N$8,Tabelle2!P80>=Calculator!$N$8),Calculator!$N$8,\"\")","v":""},11.81,{"$f":"IF(AND(Calculator!$N$6=Tabelle2!$E80,Calculator!$N$7=Tabelle2!$F80,P80<=Calculator!$N$8,Tabelle2!R80>=Calculator!$N$8),Calculator!$N$8,\"\")","v":""},13.08]
[null,null,null,null,75,7,"Total Input Power",51.24,{"$f":"IF(I80=\"\",\"\",H81+(I80-H80)/(J80-H80)*(J81-H81))","v":""},57.35,{"$f":"IF(K80=\"\",\"\",J81+(K80-J80)/(L80-J80)*(L81-J81))","v":""},63.63,{"$f":"IF(M80=\"\",\"\",L81+(M80-L80)/(N80-L80)*(N81-L81))","v":""},70.14,{"$f":"IF(O80=\"\",\"\",N81+(O80-N80)/(P80-N80)*(P81-N81))","v":""},76.91,{"$f":"IF(Q80=\"\",\"\",P81+(Q80-P80)/(R80-P80)*(R81-P81))","v":""},83.95]
[null,null,null,null,75,7.5,"FAD",6.7,{"$f":"IF(AND(Calculator!$N$6=Tabelle2!$E82,Calculator!$N$7=Tabelle2!$F82,H82<=Calculator!$N$8,Tabelle2!J82>=Calculator!$N$8),Calculator!$N$8,\"\")","v":""},7.86,{"$f":"IF(AND(Calculator!$N$6=Tabelle2!$E82,Calculator!$N$7=Tabelle2!$F82,J82<=Calculator!$N$8,Tabelle2!L82>=Calculator!$N$8),Calculator!$N$8,\"\")","v":""},9.0299999999999994,{"$f":"IF(AND(Calculator!$N$6=Tabelle2!$E82,Calculator!$N$7=Tabelle2!$F82,L82<=Calculator!$N$8,Tabelle2!N82>=Calculator!$N$8),Calculator!$N$8,\"\")","v":""},10.19,{"$f":"IF(AND(Calculator!$N$6=Tabelle2!$E82,Calculator!$N$7=Tabelle2!$F82,N82<=Calculator!$N$8,Tabelle2!P82>=Calculator!$N$8),Calculator!$N$8,\"\")","v":""},11.35,{"$f":"IF(AND(Calculator!$N$6=Tabelle2!$E82,Calculator!$N$7=Tabelle2!$F82,P82<=Calculator!$N$8,Tabelle2!R82>=Calculator!$N$8),Calculator!$N$8,\"\")","v":""},12.52]
[null,null,null,null,75,7.5,"Total Input Power",53.51,{"$f":"IF(I82=\"\",\"\",H83+(I82-H82)/(J82-H82)*(J83-H83))","v":""},59.24,{"$f":"IF(K82=\"\",\"\",J83+(K82-J82)/(L82-J82)*(L83-J83))","v":""},65.099999999999994,{"$f":"IF(M82=\"\",\"\",L83+(M82-L82)/(N82-L82)*(N83-L83))","v":""},71.150000000000006,{"$f":"IF(O82=\"\",\"\",N83+(O82-N82)/(P82-N82)*(P83-N83))","v":""},77.430000000000007,{"$f":"IF(Q82=\"\",\"\",P83+(Q82-P82)/(R82-P82)*(R83-P83))","v":""},83.91]
[null,null,null,null,75,8,"FAD",6.7,{"$f":"IF(AND(Calculator!$N$6=Tabelle2!$E84,Calculator!$N$7=Tabelle2!$F84,H84<=Calculator!$N$8,Tabelle2!J84>=Calculator!$N$8),Calculator!$N$8,\"\")","v":""},7.75,{"$f":"IF(AND(Calculator!$N$6=Tabelle2!$E84,Calculator!$N$7=Tabelle2!$F84,J84<=Calculator!$N$8,Tabelle2!L84>=Calculator!$N$8),Calculator!$N$8,\"\")","v":""},8.8000000000000007,{"$f":"IF(AND(Calculator!$N$6=Tabelle2!$E84,Calculator!$N$7=Tabelle2!$F84,L84<=Calculator!$N$8,Tabelle2!N84>=Calculator!$N$8),Calculator!$N$8,\"\")","v":""},9.85,{"$f":"IF(AND(Calculator!$N$6=Tabelle2!$E84,Calculator!$N$7=Tabelle2!$F84,N84<=Calculator!$N$8,Tabelle2!P84>=Calculator!$N$8),Calculator!$N$8,\"\")","v":""},10.9,{"$f":"IF(AND(Calculator!$N$6=Tabelle2!$E84,Calculator!$N$7=Tabelle2!$F84,P84<=Calculator!$N$8,Tabelle2!R84>=Calculator!$N$8),Calculator!$N$8,\"\")","v":""},11.95]
[null,null,null,null,75,8,"Total Input Power",55.87,{"$f":"IF(I84=\"\",\"\",H85+(I84-H84)/(J84-H84)*(J85-H85))","v":""},61.17,{"$f":"IF(K84=\"\",\"\",J85+(K84-J84)/(L84-J84)*(L85-J85))","v":""},66.569999999999993,{"$f":"IF(M84=\"\",\"\",L85+(M84-L84)/(N84-L84)*(N85-L85))","v":""},72.13,{"$f":"IF(O84=\"\",\"\",N85+(O84-N84)/(P84-N84)*(P85-N85))","v":""},77.87,{"$f":"IF(Q84=\"\",\"\",P85+(Q84-P84)/(R84-P84)*(R85-P85))","v":""},83.78]
[null,null,null,null,75,8.5,"FAD",6.95,{"$f":"IF(AND(Calculator!$N$6=Tabelle2!$E86,Calculator!$N$7=Tabelle2!$F86,H86<=Calculator!$N$8,Tabelle2!J86>=Calculator!$N$8),Calculator!$N$8,\"\")","v":""},7.85,{"$f":"IF(AND(Calculator!$N$6=Tabelle2!$E86,Calculator!$N$7=Tabelle2!$F86,J86<=Calculator!$N$8,Tabelle2!L86>=Calculator!$N$8),Calculator!$N$8,\"\")","v":""},8.75,{"$f":"IF(AND(Calculator!$N$6=Tabelle2!$E86,Calculator!$N$7=Tabelle2!$F86,L86<=Calculator!$N$8,Tabelle2!N86>=Calculator!$N$8),Calculator!$N$8,\"\")","v":""},9.64,{"$f":"IF(AND(Calculator!$N$6=Tabelle2!$E86,Calculator!$N$7=Tabelle2!$F86,N86<=Calculator!$N$8,Tabelle2!P86>=Calculator!$N$8),Calculator!$N$8,\"\")","v":""},10.54,{"$f":"IF(AND(Calculator!$N$6=Tabelle2!$E86,Calculator!$N$7=Tabelle2!$F86,P86<=Calculator!$N$8,Tabelle2!R86>=Calculator!$N$8),Calculator!$N$8,\"\")","v":""},11.44]
[null,null,null,null,75,8.5,"Total Input Power",59.64,{"$f":"IF(I86=\"\",\"\",H87+(I86-H86)/(J86-H86)*(J87-H87))","v":""},64.28,{"$f":"IF(K86=\"\",\"\",J87+(K86-J86)/(L86-J86)*(L87-J87))","v":""},69.010000000000005,{"$f":"IF(M86=\"\",\"\",L87+(M86-L86)/(N86-L86)*(N87-L87))","v":""},73.86,{"$f":"IF(O86=\"\",\"\",N87+(O86-N86)/(P86-N86)*(P87-N87))","v":""},78.83,{"$f":"IF(Q86=\"\",\"\",P87+(Q86-P86)/(R86-P86)*(R87-P87))","v":""},83.94]
[null,null,null,null,75,9,"FAD",7.2,{"$f":"IF(AND(Calculator!$N$6=Tabelle2!$E88,Calculator!$N$7=Tabelle2!$F88,H88<=Calculator!$N$8,Tabelle2!J88>=Calculator!$N$8),Calculator!$N$8,\"\")","v":""},7.94,{"$f":"IF(AND(Calculator!$N$6=Tabelle2!$E88,Calculator!$N$7=Tabelle2!$F88,J88<=Calculator!$N$8,Tabelle2!L88>=Calculator!$N$8),Calculator!$N$8,\"\")","v":""},8.69,{"$f":"IF(AND(Calculator!$N$6=Tabelle2!$E88,Calculator!$N$7=Tabelle2!$F88,L88<=Calculator!$N$8,Tabelle2!N88>=Calculator!$N$8),Calculator!$N$8,\"\")","v":""},9.43,{"$f":"IF(AND(Calculator!$N$6=Tabelle2!$E88,Calculator!$N$7=Tabelle2!$F88,N88<=Calculator!$N$8,Tabelle2!P88>=Calculator!$N$8),Calculator!$N$8,\"\")","v":""},10.18,{"$f":"IF(AND(Calculator!$N$6=Tabelle2!$E88,Calculator!$N$7=Tabelle2!$F88,P88<=Calculator!$N$8,Tabelle2!R88>=Calculator!$N$8),Calculator!$N$8,\"\")","v":""},10.92]
[null,null,null,null,75,9,"Total Input Power",63.58,{"$f":"IF(I88=\"\",\"\",H89+(I88-H88)/(J88-H88)*(J89-H89))","v":""},67.510000000000005,{"$f":"IF(K88=\"\",\"\",J89+(K88-J88)/(L88-J88)*(L89-J89))","v":""},71.5,{"$f":"IF(M88=\"\",\"\",L89+(M88-L88)/(N88-L88)*(N89-L89))","v":""},75.58,{"$f":"IF(O88=\"\",\"\",N89+(O88-N88)/(P88-N88)*(P89-N89))","v":""},79.760000000000005,{"$f":"IF(Q88=\"\",\"\",P89+(Q88-P88)/(R88-P88)*(R89-P89))","v":""},84.03]
[null,null,null,null,75,10,"FAD",7.7,{"$f":"IF(AND(Calculator!$N$6=Tabelle2!$E90,Calculator!$N$7=Tabelle2!$F90,H90<=Calculator!$N$8,Tabelle2!J90>=Calculator!$N$8),Calculator!$N$8,\"\")","v":""},8.1300000000000008,{"$f":"IF(AND(Calculator!$N$6=Tabelle2!$E90,Calculator!$N$7=Tabelle2!$F90,J90<=Calculator!$N$8,Tabelle2!L90>=Calculator!$N$8),Calculator!$N$8,\"\")","v":""},8.57,{"$f":"IF(AND(Calculator!$N$6=Tabelle2!$E90,Calculator!$N$7=Tabelle2!$F90,L90<=Calculator!$N$8,Tabelle2!N90>=Calculator!$N$8),Calculator!$N$8,\"\")","v":""},9,{"$f":"IF(AND(Calculator!$N$6=Tabelle2!$E90,Calculator!$N$7=Tabelle2!$F90,N90<=Calculator!$N$8,Tabelle2!P90>=Calculator!$N$8),Calculator!$N$8,\"\")","v":""},9.44,{"$f":"IF(AND(Calculator!$N$6=Tabelle2!$E90,Calculator!$N$7=Tabelle2!$F90,P90<=Calculator!$N$8,Tabelle2!R90>=Calculator!$N$8),Calculator!$N$8,\"\")","v":""},9.8699999999999992]
[null,null,null,null,75,10,"Total Input Power",71.77,{"$f":"IF(I90=\"\",\"\",H91+(I90-H90)/(J90-H90)*(J91-H91))","v":""},74.150000000000006,{"$f":"IF(K90=\"\",\"\",J91+(K90-J90)/(L90-J90)*(L91-J91))","v":""},76.55,{"$f":"IF(M90=\"\",\"\",L91+(M90-L90)/(N90-L90)*(N91-L91))","v":""},78.989999999999995,{"$f":"IF(O90=\"\",\"\",N91+(O90-N90)/(P90-N90)*(P91-N91))","v":""},81.47,{"$f":"IF(Q90=\"\",\"\",P91+(Q90-P90)/(R90-P90)*(R91-P91))","v":""},83.97]